BEGIN:VCALENDAR
VERSION:2.0
PRODID:-//wp-events-plugin.com//7.2.3.1//EN
TZID:Europe/Warsaw
X-WR-TIMEZONE:Europe/Warsaw
BEGIN:VEVENT
UID:2008@night4u.pl
DTSTART;TZID=Europe/Warsaw:20181231T200000
DTEND;TZID=Europe/Warsaw:20190101T030000
DTSTAMP:20181231T132610Z
URL:https://night4u.pl/wydarzenia/sylwester-w-stylu-disco-open-bar-do-300-
 w-nocy-149-zl-os/
SUMMARY:Sylwester w Stylu DISCO. OPEN BAR do 3:00 w nocy.149 zł /os
DESCRIPTION:Przywitaj z nami Nowy Rok 2019 w Stylu DISCO. 80'90 plus nowe h
 ity radiowe. \n\nZabawa sylwestrowa z muzyką lat 80'90 i nowoczesna.\nPro
 wadzący Mariodeejay pres.MDJ.\nOd 20:00-3:00 Impreza zamknięta.\nOd 3:00
 -7:00 otwarte dla osób z zewnątrz wstęp darmowy\n\nBilety z rezerwacją
  oraz miejsca siedzącego i cateringiem.\n\nImprezę poprowadzi \nMariodee
 jay pres.MDJ.\n\nW kwocie 149 zł \nCatering: \n\nNa ciepło: \n-Strogonow
  \n-Bigos \n-Barszcz czerwony \n \nNa zimno :\n-Kanapki bankietowe \n-Tata
 r wołowy \n-Śledź w oleju z cebula i ogórkiem\n-Galaretki z drobiu\n-S
 zynka z serem i czosnkiem w galarecie\n-Tortelinki z jajkiem szynka i tuń
 czykiem\n-Sałatki z kurczakiem/warzywna.\n\nStół staropolski: \n-Smalec
 \n-Żurek\n-Deski serów i wędlin.\n\n\nAlkohol:\n-Wódka bez ograniczeń
 \n-Whisky grants/balantines (bez ograniczeń) \n-Drinki Seta DISCO\n-Wódk
 a smakowa lub Żołądkowa gorzka i inne \n\nNapoje: \n-Kawa \n-Herbata  \
 n-Pepsi/7up/Mirinda/Woda gazowana/niegazowana\n\n@@@@Wszystko do godziny 3
 :00 bez ograniczeń@@@@\n\n\nO godzinie 24 powitanie nowego roku lampka sz
 ampana.\n\n\nSETA DISCO Rezerwacje pod numerem tel: \n\n+48 690 606 960\n\
 nSETA DISCO | STARY RYNEK 18 | BYDGOSZCZ
ATTACH;FMTTYPE=image/jpeg:https://night4u.pl/wp-content/uploads/2018/12/80
 15_image_43829031_2209359062655186_5678171125813608448_o.jpg
CATEGORIES:kujawsko-pomorskie
LOCATION:Seta DISCO\, Stary Rynek 18\, Bydgoszcz\, 85-101\, Poland
GEO:53.121757;17.99994
X-APPLE-STRUCTURED-LOCATION;VALUE=URI;X-ADDRESS=Stary Rynek 18\, Bydgoszcz\
 , 85-101\, Poland;X-APPLE-RADIUS=100;X-TITLE=Seta DISCO:geo:53.121757,17.9
 9994
END:VEVENT
BEGIN:VTIMEZONE
TZID:Europe/Warsaw
X-LIC-LOCATION:Europe/Warsaw
BEGIN:STANDARD
DTSTART:20181028T020000
TZOFFSETFROM:+0200
TZOFFSETTO:+0100
TZNAME:CET
END:STANDARD
END:VTIMEZONE
END:VCALENDAR