BEGIN:VCALENDAR
VERSION:2.0
PRODID:-//wp-events-plugin.com//7.2.3.1//EN
TZID:Europe/Warsaw
X-WR-TIMEZONE:Europe/Warsaw
BEGIN:VEVENT
UID:1425@night4u.pl
DTSTART;TZID=Europe/Warsaw:20181231T200000
DTEND;TZID=Europe/Warsaw:20190101T040000
DTSTAMP:20181227T232332Z
URL:https://night4u.pl/wydarzenia/sylwestrowa-prywatka-sowa/
SUMMARY:Sylwestrowa Prywatka/Sowa
DESCRIPTION:Zapraszamy na Sylwestrową Prywatkę.\nO wystrój zadba Mariola
  Żylińska-Jestadt \nOprawa muzyczna i konkursy DJ AdamPox\nSowa przygotu
 je dla Was :\n- ciepłe i zimne napoje bezalkoholowe\n- dwa ciepłe posił
 ki\n- owoce\n- szampana\n- nakryje stoły w akcesoria do konsumpcji\n-  na
 grody na konkursy i zestaw fajerwerków( jeżeli Wasza decyzja        \n  
  będzie inna\, to się dostosujemy).\nAlkohol i zimne przekąski zabierac
 ie z sobą.\nOpłata symboliczne 115 zł za osobę.\nWięcej informacji 50
 2656902 lub w Sowie\nPS. Liczba miejsc ograniczona.
ATTACH;FMTTYPE=image/jpeg:https://night4u.pl/wp-content/uploads/2018/12/66
 99_image_46396503_1948371518544439_4376932404632223744_n.jpg
CATEGORIES:warmińsko-mazurskie
LOCATION:Galeria Sowa\, ulica Zamkowa 2\, Olsztyn\, 10-074\, Poland
GEO:53.777539;20.473938
X-APPLE-STRUCTURED-LOCATION;VALUE=URI;X-ADDRESS=ulica Zamkowa 2\, Olsztyn\,
  10-074\, Poland;X-APPLE-RADIUS=100;X-TITLE=Galeria Sowa:geo:53.777539,20.
 473938
END:VEVENT
BEGIN:VTIMEZONE
TZID:Europe/Warsaw
X-LIC-LOCATION:Europe/Warsaw
BEGIN:STANDARD
DTSTART:20181028T020000
TZOFFSETFROM:+0200
TZOFFSETTO:+0100
TZNAME:CET
END:STANDARD
END:VTIMEZONE
END:VCALENDAR