BEGIN:VCALENDAR
VERSION:2.0
PRODID:-//wp-events-plugin.com//7.2.3.1//EN
TZID:Europe/Warsaw
X-WR-TIMEZONE:Europe/Warsaw
BEGIN:VEVENT
UID:26247@night4u.pl
DTSTART;TZID=Europe/Warsaw:20200202T150000
DTEND;TZID=Europe/Warsaw:20200202T193000
DTSTAMP:20200131T191101Z
URL:https://night4u.pl/wydarzenia/sylwia-lipka-%e2%99%ac-wbrew-pozorom-tou
 r-%e2%99%ac-rzeszow/
SUMMARY:Sylwia Lipka ♬ Wbrew Pozorom Tour ♬ Rzeszów
DESCRIPTION:Już w październiku tego roku Sylwia Lipka rusza w trasę konc
 ertową po całej Polsce! \nTrasa powiązana jest z premierą najnowszej p
 łyty Sylwii pt. Wbrew pozorom\, na której młoda wokalistka zaprezentuje
  wiele wyjątkowych kompozycji\, w których wybrzmiewać będzie dobrze zn
 any styl piosenkarki\, w odświeżonym wydaniu. \nCiężko o lepszą okazj
 ę\, by zobaczyć Sylwię Lipkę na żywo i to na wyciągnięcie ręki! Ko
 niecznie sprawdźcie\, kiedy Sylwia pojawi się w Waszej okolicy i kupujci
 e bilety na koncert\, który będzie nie tylko imprezą muzyczną\, ale r
 ównież wyjątkowym wydarzeniem\, które sprawi\, że na długo nie zapom
 nicie tego dnia!
ATTACH;FMTTYPE=image/jpeg:https://night4u.pl/wp-content/uploads/2019/09/61
 325_image_69418532_515755302510391_4542639351082778624_o.jpg
CATEGORIES:podkarpackie
LOCATION:Pod Palmą\, Cicha4a\, Rzeszów\, 35-326\, Poland
GEO:50.01652;22.00478
X-APPLE-STRUCTURED-LOCATION;VALUE=URI;X-ADDRESS=Cicha4a\, Rzeszów\, 35-326
 \, Poland;X-APPLE-RADIUS=100;X-TITLE=Pod Palmą:geo:50.01652,22.00478
END:VEVENT
BEGIN:VTIMEZONE
TZID:Europe/Warsaw
X-LIC-LOCATION:Europe/Warsaw
BEGIN:STANDARD
DTSTART:20191027T020000
TZOFFSETFROM:+0200
TZOFFSETTO:+0100
TZNAME:CET
END:STANDARD
END:VTIMEZONE
END:VCALENDAR