BEGIN:VCALENDAR
VERSION:2.0
PRODID:-//wp-events-plugin.com//7.2.3.1//EN
TZID:Europe/Warsaw
X-WR-TIMEZONE:Europe/Warsaw
BEGIN:VEVENT
UID:44536@night4u.pl
DTSTART;TZID=Europe/Warsaw:20200131T200000
DTEND;TZID=Europe/Warsaw:20200201T030000
DTSTAMP:20200131T234143Z
URL:https://night4u.pl/wydarzenia/synth-town-by-ng-live-band/
SUMMARY:Synth Town by NG Live Band
DESCRIPTION:Kazamata Wschodnia Bastionu I\, Stowarzyszenie Wszystko Gra ora
 z Nasty Groove mają zaszczyt zaprosić wszystkich do nowego miejsca na ku
 lturalnej mapie Zamość - Twierdza Otwarta którym jest Pracownia RW8. \n
 \nWydarzenie z rodzaju tych\, których w naszym mieście jeszcze nie było
 \, to nie lada gratka dla miłośników muzyki elektronicznej na żywo.Cz
 łonkowie kolektywu Dj`s działający na zamojskiej scenie muzycznej od wi
 elu lat\, wraz z czasem ewoluują i są rządni nowych wrażeń. Z czasem 
 dozbrajają swój muzyczny arsenał w nowe zabawki do produkcji muzyki ele
 ktronicznej a kolekcji nie widać końca...\n \n  Po długim okresie swoje
 j działalności dojrzeli do tego aby zaprezentować się szerszej publicz
 ności czego efektem jest to właśnie wydarzenie. \n\n  W piątkowy wiecz
 ór na piętrze kamienicy Rynek Wielki 8 (wejście do Kawa na Ławę) zabr
 zmią dźwięki generowane na żywo z wszelkiej maści zabawek elektronicz
 nych jakie dzisiejsza technika muzykom oferuje. \n\n  Postaramy się stwor
 zyć klimat który do tej pory mogliśmy zobaczyć na internetowych relacj
 ach np. takich kanałów jak Boiler Room itp.\n\n  Pracownia RW8 oferuje p
 otencjał który wspólnymi siłami pragniemy wykorzystać najlepiej w mia
 rę naszych możliwości. Postaramy się aby przybyli goście chętnie tam
  wracali. Pierwsza z sal (nazwijmy ją ROOM 1) rozpłynie się w dźwięka
 ch wygenerowanych przez NG live Band z elektronicznych instrumentów poł
 ączonych ze sobą i sterowanych w czasie rzeczywistym. Maszyny do bitów 
 oraz samplery dają ogromne możliwości do tego by słuchacze mogli zobac
 zyć jak na żywo powstaje muzyka która budzi nieodpartą chęć do tańc
 a.Tutaj też zobaczymy miksowane na żywo projekcje video. Sala druga nato
 miast (ROOM 2) jak na "weteranów" DJ-ki przystało\, zostanie uzbrojona w
  gramofony z których usłyszymy muzykę z płyt winylowych a kolekcja cza
 rnych "wosków" urosła do takiego rozmiaru że czas ją pokazać.Sala trz
 ecia (ROOM 3) to strefa odpoczynku przy napojach chłodzących \;)\n  \n  
 \n  Nie chcemy uchylać więcej informacji gdyż chcielibyśmy poznać Was
 zą ocenę togo co zrobimy. Pomysłów na działanie mamy ogrom ale faktem
  jest to że bez Was nasze działania nie będą miały celu.Chcemy być i
  tworzyć dla Was więc liczymy na to że wesprzecie nas zacną frekwencj
 ą.\n\n   Weźcie znajomych i wpadajcie. Klimat miejsca w połączeniu z t
 wórczością na żywo będzie niepowtarzalny.\n\n  Startujemy o 20:00 ko
 ńczymy o 3:00.\n\n  Wstęp 30 PLN.
ATTACH;FMTTYPE=image/jpeg:https://night4u.pl/wp-content/uploads/2020/01/14
 3737_image_83056130_2767258170029452_7908026968036081664_o.jpg
CATEGORIES:lubelskie
LOCATION:Pracownia RW8\, Rynek Wielki 8\, Zamosc\, 22-400\, Poland
GEO:50.7167;23.25337
X-APPLE-STRUCTURED-LOCATION;VALUE=URI;X-ADDRESS=Rynek Wielki 8\, Zamosc\, 2
 2-400\, Poland;X-APPLE-RADIUS=100;X-TITLE=Pracownia RW8:geo:50.7167,23.253
 37
END:VEVENT
BEGIN:VTIMEZONE
TZID:Europe/Warsaw
X-LIC-LOCATION:Europe/Warsaw
BEGIN:STANDARD
DTSTART:20191027T020000
TZOFFSETFROM:+0200
TZOFFSETTO:+0100
TZNAME:CET
END:STANDARD
END:VTIMEZONE
END:VCALENDAR