BEGIN:VCALENDAR
VERSION:2.0
PRODID:-//wp-events-plugin.com//7.2.3.1//EN
TZID:Europe/Warsaw
X-WR-TIMEZONE:Europe/Warsaw
BEGIN:VEVENT
UID:3696@night4u.pl
DTSTART;TZID=Europe/Warsaw:20190125T210000
DTEND;TZID=Europe/Warsaw:20190126T060000
DTSTAMP:20190116T101540Z
URL:https://night4u.pl/wydarzenia/szampan-disco-weikum-gigi-pequeno-the-sa
 int/
SUMMARY:Szampan Disco - Weikum / GiGi / Pequeño / The Saint
DESCRIPTION:Obraz\, emocje i poczucie oderwania się od codzienności. \n\n
 Disco\, szampan\, kolorowe kreacje.\n\nTaniec\, blask nocy\, lśnienie cia
 ł.\n\nZgub się z nami w próżności. Poczuj moc disco i melodyjnego hou
 se. Upij się szampanem. Zakochaj się i bądź próżny.\n\nTej nocy spod
 ziewajcie się wyjątkowej celebracji i specjalnych cen na szampany.\n\nZa
 grają:\n\nSala lustrzana:\nWEIKUM\nGiGi / PL\nPequeño\n\nSala Szampańsk
 a:\nThe SAINT\nTony Handle\n\nWEJŚCIE:\n? - wstęp free\nPozostali gości
 e do 23 - free\npo godzinie 23 - 20 PLN\n\nZASADY: \n- selekcja\n- dress c
 ode: wyjątkowość\n- tylko próżne zdjęcia\n\nRezerwacje / Loże: 5042
 46883
ATTACH;FMTTYPE=image/jpeg:https://night4u.pl/wp-content/uploads/2019/01/11
 611_image_49428992_347493299315334_8366464102104563712_o.jpg
CATEGORIES:wielkopolskie
LOCATION:Próżność\, Niepodległości 8a\, Poznan\, 61-875\, Poland
GEO:52.405584;16.91872
X-APPLE-STRUCTURED-LOCATION;VALUE=URI;X-ADDRESS=Niepodległości 8a\, Pozna
 n\, 61-875\, Poland;X-APPLE-RADIUS=100;X-TITLE=Próżność:geo:52.405584,
 16.91872
END:VEVENT
BEGIN:VTIMEZONE
TZID:Europe/Warsaw
X-LIC-LOCATION:Europe/Warsaw
BEGIN:STANDARD
DTSTART:20181028T020000
TZOFFSETFROM:+0200
TZOFFSETTO:+0100
TZNAME:CET
END:STANDARD
END:VTIMEZONE
END:VCALENDAR