BEGIN:VCALENDAR
VERSION:2.0
PRODID:-//wp-events-plugin.com//7.2.3.1//EN
TZID:Europe/Warsaw
X-WR-TIMEZONE:Europe/Warsaw
BEGIN:VEVENT
UID:11735@night4u.pl
DTSTART;TZID=Europe/Warsaw:20190420T200000
DTEND;TZID=Europe/Warsaw:20190421T020000
DTSTAMP:20190403T193709Z
URL:https://night4u.pl/wydarzenia/szczecinska-liga-wolnostylowa-drugi-sezo
 n-koncert-piekielny/
SUMMARY:Szczecińska Liga Wolnostylowa - Drugi sezon + koncert Piekielny
DESCRIPTION:Szczecińska Liga Wolnostylowa oraz Urban Vibes - Agencja Konce
 rtowa zapraszają na start drugiego sezonu freestyle'owej rozgrywki! \n\nT
 ak jak podczas 1ego sezonu - uczestniczy będą zbierać punkty aż przez 
 6 ustawek\, a najlepsi z nich spotkają się w wielkim finale!\nJak zawsze
  walczyć będą o uznanie jury\, publiki oraz o ciekawe nagrody!\n\nData:
  20.04.2019\nMiejsce: Elefunk The Club\nStart: 20:00\nProwadzi: Żelu Żel
 son\nDecki: Ey DJ Carter\nJury: Kapsel (Mistrz WBS 2016)\nWJAZD: 10 ZŁ (n
 a bramce)\n+16\n\nPRZEDPREMIEROWY KONCERT PŁYTY "ADIOS" ZAGRA:\nTMK aka P
 iekielny\n\nZapisy na bitwę w prywatnej wiadomości na Szczecińska Liga 
 Wolnostylowa - KSYWA / ROCZNIK / MIASTO\n\nWięcej informacji wkrótce!\n\
 nZapraszajcie znajomych do wydarzenia i ponownie stwórzmy niepowtarzalny 
 klimat rapu i freestyle'u w naszym mieście! 
ATTACH;FMTTYPE=image/jpeg:https://night4u.pl/wp-content/uploads/2019/04/30
 159_image_56196630_416086262479110_6309737154633269248_o.jpg
CATEGORIES:zachodniopomorskie
LOCATION:Elefunk The Club\, pl. Żołnierza Polskiego 2\, Szczecin\, 70-551
 \, Poland
GEO:53.42819;14.55416
X-APPLE-STRUCTURED-LOCATION;VALUE=URI;X-ADDRESS=pl. Żołnierza Polskiego 2
 \, Szczecin\, 70-551\, Poland;X-APPLE-RADIUS=100;X-TITLE=Elefunk The Club:
 geo:53.42819,14.55416
END:VEVENT
BEGIN:VTIMEZONE
TZID:Europe/Warsaw
X-LIC-LOCATION:Europe/Warsaw
BEGIN:DAYLIGHT
DTSTART:20190331T030000
TZOFFSETFROM:+0100
TZOFFSETTO:+0200
TZNAME:CEST
END:DAYLIGHT
END:VTIMEZONE
END:VCALENDAR