BEGIN:VCALENDAR
VERSION:2.0
PRODID:-//wp-events-plugin.com//7.2.3.1//EN
TZID:Europe/Warsaw
X-WR-TIMEZONE:Europe/Warsaw
BEGIN:VEVENT
UID:27779@night4u.pl
DTSTART;TZID=Europe/Warsaw:20190928T190000
DTEND;TZID=Europe/Warsaw:20190929T050000
DTSTAMP:20190916T110256Z
URL:https://night4u.pl/wydarzenia/szczecinska-liga-wolnostylowa-vol-3-sezo
 n2-koncert-dan-kari/
SUMMARY:Szczecińska Liga Wolnostylowa Vol.3| Sezon2 + Koncert Dan/Kari
DESCRIPTION:Siemano!\nSLW wraca po wakacyjnej przerwie ze zdwojoną siłą.
 ..szykujcie się na ogień! ??\n\nData: 28.09.2019 ‼️\nMiejsce: Elefun
 k The Club ?\nStart: 19.00 ?\nBilety: 10 zł / 15 zł po 23:00\nKoncert: D
 AN / KARI ??\nDecki: Ey DJ Carter ?️?\nProwadzenie: Żelu Żelson ?\nJur
 y: Kapsel/ Kreda288 ??️\n\nPO PÓŁNOCY AFTER PARTY ‼️???\n\nPomóż
  Nam w promowaniu wydarzenia\, zapraszaj znajomków\, udostępniaj... i co
 ? ?\nWidzimy się by znów stworzyć zajebisty klimat\, posłuchać dobreg
 o rapu\, a co najważniejsze bujać się przy konkretnym freestyle'u ??\n\
 nLubisz freestyle? Startujesz w bitwach\, a może chcesz zaliczyć debiut 
 na freestyle'owej scenie?\nZAPISZ SIĘ W WIADOMOŚCI NA Szczecińska Liga 
 Wolnostylowa\n\nSponsorzy:\n\nSponsor główny:\n- Cosinus Szczecin\n\nSpo
 nsorzy:\n- Szczecińska Szkoła Wyższa Collegium Balticum\n- Szczecińska
  Liga Stand-Up\n- Agencja artystyczna Dabe\, \n- Czerwony Pizza Truck\n-  
 Tylko Konkretny Rap\n-  Damian "Viking" Usewicz\n\nPatroni:\n- Bitwa o Hyp
 e\n- Hip-Hop.pl\n- Imprezowy Szczecin\n- Szczecińskie Podziemie\n- rapnew
 s.pl\n- Szczecińskie Podziemie Studio\, \n- WuDoo 92fm\n- Andegrand.pl
ATTACH;FMTTYPE=image/jpeg:https://night4u.pl/wp-content/uploads/2019/09/64
 565_image_69739745_505043550250047_5842331553325121536_o.jpg
CATEGORIES:zachodniopomorskie
LOCATION:Elefunk The Club\, pl. Żołnierza Polskiego 2\, Szczecin\, 70-551
 \, Poland
GEO:53.42819;14.55416
X-APPLE-STRUCTURED-LOCATION;VALUE=URI;X-ADDRESS=pl. Żołnierza Polskiego 2
 \, Szczecin\, 70-551\, Poland;X-APPLE-RADIUS=100;X-TITLE=Elefunk The Club:
 geo:53.42819,14.55416
END:VEVENT
BEGIN:VTIMEZONE
TZID:Europe/Warsaw
X-LIC-LOCATION:Europe/Warsaw
BEGIN:DAYLIGHT
DTSTART:20190331T030000
TZOFFSETFROM:+0100
TZOFFSETTO:+0200
TZNAME:CEST
END:DAYLIGHT
END:VTIMEZONE
END:VCALENDAR