BEGIN:VCALENDAR
VERSION:2.0
PRODID:-//wp-events-plugin.com//7.2.3.1//EN
TZID:Europe/Warsaw
X-WR-TIMEZONE:Europe/Warsaw
BEGIN:VEVENT
UID:11743@night4u.pl
DTSTART;TZID=Europe/Warsaw:20190504T200000
DTEND;TZID=Europe/Warsaw:20190505T020000
DTSTAMP:20190403T193728Z
URL:https://night4u.pl/wydarzenia/szczecinskie-podziemie-vol-14-kartell-cl
 ub/
SUMMARY:Szczecińskie Podziemie vol. 14 / Kartell Club
DESCRIPTION:Podziemny rap- serce Szczecina bije nieprzerwanie od ponad 20 l
 at\, w rytmie portowego zgiełku. Dziś zawinięte w zapach czekolady\, ke
 babów i pasztecika z lekką nutą paprykarzu. Miasto trzeciego największ
 ego cmentarza na kontynencie\, jednego z najstarszych kin świata. Paryż 
 północy\, wzniesiony z gruzów przez pożogan z Podola\, Wileńszczyzny 
 i Polski centralnej. Miasto\, z którym każdy zawsze się liczył. \nSNUZ
 \, Wiele CT\, Dj Twister\, Projektanci\, Uqad-Squad\, ESSA\, Mores RSH\, S
 przymierzeni\, Sobota\, Matheo\, Łona i Webber\, Wini\, Bonson\, PMM\, Sp
 ecnaz\, Projekt Nasłuch to jak byś dostał w ryj!\n	Szczecińska scena z
 awsze stanowiła jedną z silniejszych w kraju\, nie możemy tego zepsuć.
  Po raz 14 spotykamy się\, żeby nawiązywać kontakty\, zacieśniać prz
 yjaźnie\, podnosić sobie poprzeczkę\, poszerzać horyzonty i zapierdzie
 lić w palnik. Przychodzimy wszyscy żeby pokazać młodszym pokoleniom ż
 e warto iść tą ścieżką\, podczas imprezy będzie również open mic 
 gdzie każdy będzie mógł sobie podejść i ponawijać.\nJuż 04 maja w 
 klubie KARTELL Szczecińskie Podziemie vol. 14\n\n• Miejsce: Kartell Eve
 nt Club\n• Data: 04.05.2019\n• godz. 20:00 \n\nKoncert zagrają reprez
 entanci Szczecina:\n- Ey DJ Carter!\n- Kapewu (Żelu Żelson x Tox - Kapew
 u)\n- Wikczi Szlifibruk\n- Marcuson\n- MaskA\n- Zachodnia Strona Wita\n- W
 ISU\n\n\n+ OPEN MIC dla wszystkich \;) \n\nZa deckami:\n- Ey DJ Carter\n\n
 Specjalnie z Kartell Event Club przygotowaliśmy dla was dobre ceny na dob
 re alkohole! \nDrink Podziemia - 10 zł\nJagerbomb - 12 zł\nPiwo - 7 zł\
 n\nWjazd FREE do 21:00\npóźniej 10 zł\n\nPartnerzy: \nKartell Event Clu
 b\nArtem Tattoo\nWiadomo\n\nPatroni:\nWuDoo 92fm\nHip-Hop.pl\nRapDuma\nPop
 killer - konkretnie o muzyce\nINFO Szczecin\nImprezowy Szczecin\nSzczeciń
 ski HipHop\nHipHopHeadz.pl\nWBS Wielka Bitwa Szczecińska\n\nJeżeli rapuj
 esz i chciałbyś zagrać kilka kawałków\, napisz do nas na priv Szczeci
 ńskie Podziemie.
ATTACH;FMTTYPE=image/jpeg:https://night4u.pl/wp-content/uploads/2019/04/30
 175_image_55937572_2179979312093522_5118194724280205312_o.jpg
CATEGORIES:zachodniopomorskie
LOCATION:Kartell Event Club\, Jagiellońska 67B\, Szczecin\, 70-382\, Polan
 d
GEO:53.432833;14.531283
X-APPLE-STRUCTURED-LOCATION;VALUE=URI;X-ADDRESS=Jagiellońska 67B\, Szczeci
 n\, 70-382\, Poland;X-APPLE-RADIUS=100;X-TITLE=Kartell Event Club:geo:53.4
 32833,14.531283
END:VEVENT
BEGIN:VTIMEZONE
TZID:Europe/Warsaw
X-LIC-LOCATION:Europe/Warsaw
BEGIN:DAYLIGHT
DTSTART:20190331T030000
TZOFFSETFROM:+0100
TZOFFSETTO:+0200
TZNAME:CEST
END:DAYLIGHT
END:VTIMEZONE
END:VCALENDAR