BEGIN:VCALENDAR
VERSION:2.0
PRODID:-//wp-events-plugin.com//7.2.3.1//EN
TZID:Europe/Warsaw
X-WR-TIMEZONE:Europe/Warsaw
BEGIN:VEVENT
UID:498@night4u.pl
DTSTART;TZID=Europe/Warsaw:20181226T210000
DTEND;TZID=Europe/Warsaw:20181227T050000
DTSTAMP:20181217T171608Z
URL:https://night4u.pl/wydarzenia/szczepan-koncert-loverboy/
SUMMARY:Szczepan / Koncert: Loverboy
DESCRIPTION:W drugi dzień Świąt zapraszamy do wspólnego spalania świą
 tecznych kalorii…\nElegancka atmosfera\, profesjonalna obsługa i DJ pos
 iadający talent do rozkręcenia imprezy\, to sprawi\, że każdy będzie 
 bawił się świetnie znajdując coś dla siebie.\n\nCzego chcieć więcej
 ?\nKoncert na żywo zrobił by jeszcze robotę\, prawda? \nNo to nie ma pr
 oblemu\, specjalnie tej nocy zagra dla Was LOVERBOY!\n\nDodatkowo nasz bar
  solidnie Wam wymiesza co tylko chcecie\, tak by różne zmrożone trunki 
 raczyły Was podczas świetnej zabawy!\n__________________________________
 ______________\n\nStart 21:00\nKlub zastrzega sobie prawo do selekcji goś
 ci +18.\n________________________________________________\n\nW ofercie dla
  Was tego wieczora mamy:\nWjazd na imprezę z listy facebook'a za darmo dl
 a wszystkich którzy zjawią się do godziny 22:00 / \nPo 22:00 i spoza li
 sty 10 zł\nListę zamykamy o 20 w dniu imprezy!\n\nKliknij "wezmę udzia
 ł" bo "zainteresowaną/ym" to można być co najwyżej kolejną kolejką 
 przy barze.\n______________________________________\n\nZnajdź nas równie
 ż na:\nSnapchat: silence_club || Instagram: @silenceclub\n\n26 grudnia 20
 18 (Środa)\nSilenceClub\nRadziszewskiego 8\nLublin
ATTACH;FMTTYPE=image/jpeg:https://night4u.pl/wp-content/uploads/2018/12/46
 87_image_47681536_2600850806606579_7230630176424460288_o.jpg
CATEGORIES:lubelskie
LOCATION:SilenceClub\, Radziszewskiego 8\, Lublin\, 20-031\, Poland
GEO:51.246457;22.543797
X-APPLE-STRUCTURED-LOCATION;VALUE=URI;X-ADDRESS=Radziszewskiego 8\, Lublin\
 , 20-031\, Poland;X-APPLE-RADIUS=100;X-TITLE=SilenceClub:geo:51.246457,22.
 543797
END:VEVENT
BEGIN:VTIMEZONE
TZID:Europe/Warsaw
X-LIC-LOCATION:Europe/Warsaw
BEGIN:STANDARD
DTSTART:20181028T020000
TZOFFSETFROM:+0200
TZOFFSETTO:+0100
TZNAME:CET
END:STANDARD
END:VTIMEZONE
END:VCALENDAR