BEGIN:VCALENDAR
VERSION:2.0
PRODID:-//wp-events-plugin.com//7.2.3.1//EN
TZID:Europe/Warsaw
X-WR-TIMEZONE:Europe/Warsaw
BEGIN:VEVENT
UID:49059@night4u.pl
DTSTART;TZID=Europe/Warsaw:20200229T200000
DTEND;TZID=Europe/Warsaw:20200301T050000
DTSTAMP:20200229T044532Z
URL:https://night4u.pl/wydarzenia/szczepienia-w-hushu/
SUMMARY:Szczepienia w Hush'u
DESCRIPTION:Tylko w Hush'u właściwa szczepionka na wirusa\, dostępna ju
 ż w sobotę.\nZapytaj barmana o sczepionkę na wirusa.\n\nNajlepsza impre
 za w rytmach Disco Polo i Dance w Krakowie !!\n\nOsoby które udostępnią
  post i dodadzą się do wydarzenia do 22:00 wstęp do klubu  gratis.\nLis
 ta zamyka sie o godz 17 w dniu imprezy\n__________________________________
 ____\nStart 20:00\nWstęp Lista Fb do 22:00 Free\nPozostali 10 zł\n______
 ________________________________\nRezerwacje www.hushlive.pl zakładka rez
 erwacje
ATTACH;FMTTYPE=image/jpeg:https://night4u.pl/wp-content/uploads/2020/02/16
 8442_image_88110191_2634776466735822_609901109972041728_n.jpg
CATEGORIES:małopolskie
LOCATION:HUSH LIVE\, Sławkowska 6\, Kraków\, 31-014\, Poland
GEO:50.063145;19.937096
X-APPLE-STRUCTURED-LOCATION;VALUE=URI;X-ADDRESS=Sławkowska 6\, Kraków\, 3
 1-014\, Poland;X-APPLE-RADIUS=100;X-TITLE=HUSH LIVE:geo:50.063145,19.93709
 6
END:VEVENT
BEGIN:VTIMEZONE
TZID:Europe/Warsaw
X-LIC-LOCATION:Europe/Warsaw
BEGIN:STANDARD
DTSTART:20191027T020000
TZOFFSETFROM:+0200
TZOFFSETTO:+0100
TZNAME:CET
END:STANDARD
END:VTIMEZONE
END:VCALENDAR