BEGIN:VCALENDAR
VERSION:2.0
PRODID:-//wp-events-plugin.com//7.2.3.1//EN
TZID:Europe/Warsaw
X-WR-TIMEZONE:Europe/Warsaw
BEGIN:VEVENT
UID:30585@night4u.pl
DTSTART;TZID=Europe/Warsaw:20191025T210000
DTEND;TZID=Europe/Warsaw:20191026T060000
DTSTAMP:20191026T021712Z
URL:https://night4u.pl/wydarzenia/szczery-podboj-hybryd-25-10-warszawa/
SUMMARY:Hell On Earth 25.10 Hybrydy Szczery Hardcore
DESCRIPTION:Szczery Hardcore zaprasza na Hell On Earth. Tej nocy bramy piek
 ieł rozchylą:\n- Groan-er / Noisekick Records / This is Terror / Warsaw 
 Speedcore\nhttps://soundcloud.com/groan-er\n- Sidelnikov / Traumatic 😈\
 nhttps://soundcloud.com/sidelnikov\n- Damage / Warsaw Speedcore 😈\nhttp
 s://soundcloud.com/damagews\n- Occulkot / terrorcore.pl 😈\nhttps://soun
 dcloud.com/occulkot\n- Danes / Gabba Tallion 😈\nhttps://soundcloud.com/
 d4n3s\n- Braindropah vs. KillDozer / FrenchKiss / Gabba Tallion\nhttps://s
 oundcloud.com/tomas-da-braindropah\nhttps://soundcloud.com/killdozerpl\n- 
 Ghost from Warsaw 😈\nhttps://www.mixcloud.com/Kacper133/\nhttps://sound
 cloud.com/ghost_from_warsaw\n- Unicorn Autist / Gabba Tallion 😈\nhttps:
 //youtu.be/nmVt3QO_WYc?t=1881\nhttps://soundcloud.com/adam-ligocki-7331483
 10\n- Astarte / debiut 🔥\nhttps://soundcloud.com/astarte001\n\nNO BULLS
 HIT JUST HONEST HARDCORE!\n\nStart 21:00\nWjazd 25*/30 pln\nOnly 18+ (waż
 ny dokument ze zdjęciem trzeba będzie okazać na bramce)\n* 25 pln do go
 dziny 22:00
ATTACH;FMTTYPE=image/jpeg:https://night4u.pl/wp-content/uploads/2019/10/70
 526_image_72632329_446848702612096_29401301703983104_o.jpg
CATEGORIES:mazowieckie
LOCATION:Hybrydy\, Złota 7/9\, Warsaw\, 00-019\, Poland
GEO:52.23268;21.01157
X-APPLE-STRUCTURED-LOCATION;VALUE=URI;X-ADDRESS=Złota 7/9\, Warsaw\, 00-01
 9\, Poland;X-APPLE-RADIUS=100;X-TITLE=Hybrydy:geo:52.23268,21.01157
END:VEVENT
BEGIN:VTIMEZONE
TZID:Europe/Warsaw
X-LIC-LOCATION:Europe/Warsaw
BEGIN:DAYLIGHT
DTSTART:20190331T030000
TZOFFSETFROM:+0100
TZOFFSETTO:+0200
TZNAME:CEST
END:DAYLIGHT
END:VTIMEZONE
END:VCALENDAR