BEGIN:VCALENDAR
VERSION:2.0
PRODID:-//wp-events-plugin.com//7.2.3.1//EN
TZID:Europe/Warsaw
X-WR-TIMEZONE:Europe/Warsaw
BEGIN:VEVENT
UID:6871@night4u.pl
DTSTART;TZID=Europe/Warsaw:20190310T200000
DTEND;TZID=Europe/Warsaw:20190310T230000
DTSTAMP:20190210T154436Z
URL:https://night4u.pl/wydarzenia/szczrbicka-x-wylega-nietota/
SUMMARY:Szczrbicka x Wylęga / Nietota
DESCRIPTION:Weterani akustycznych koncertów z Wrocławia powracają!!! Dyn
 amiczne duo po miesiącach przerwy\, ponownie zagra swoje największe prze
 boje jak i również covery. Gdyby krytycy o nich słyszeli to zachwalalib
 y ich w niebiosa. Gdyby Olka nie zmieniała ciągle koloru włosów to ju
 ż na pewno by ją ktoś rozpoznawał. Gdyby ktoś znał Kubę porównywal
 iby jego zdolności do połączenia wirtuozerii Mozarta z przebojowością
  Johna Mayera. Niestety na sławę trzeba zasłużyć. Na szczęście już
  10 marca będzie to możliwe. \nSerdecznie zapraszamy na występ.
ATTACH;FMTTYPE=image/jpeg:https://night4u.pl/wp-content/uploads/2019/02/20
 043_image_51421959_2149829871726560_1166912214544678912_n.jpg
CATEGORIES:dolnośląskie
LOCATION:Nietota\, ul.Kazimierza Wielkiego 50\, Wroclaw\, 50-078\, Poland
GEO:51.107699;17.031693
X-APPLE-STRUCTURED-LOCATION;VALUE=URI;X-ADDRESS=ul.Kazimierza Wielkiego 50\
 , Wroclaw\, 50-078\, Poland;X-APPLE-RADIUS=100;X-TITLE=Nietota:geo:51.1076
 99,17.031693
END:VEVENT
BEGIN:VTIMEZONE
TZID:Europe/Warsaw
X-LIC-LOCATION:Europe/Warsaw
BEGIN:STANDARD
DTSTART:20181028T020000
TZOFFSETFROM:+0200
TZOFFSETTO:+0100
TZNAME:CET
END:STANDARD
END:VTIMEZONE
END:VCALENDAR