BEGIN:VCALENDAR
VERSION:2.0
PRODID:-//wp-events-plugin.com//7.2.3.1//EN
TZID:Europe/Warsaw
X-WR-TIMEZONE:Europe/Warsaw
BEGIN:VEVENT
UID:45933@night4u.pl
DTSTART;TZID=Europe/Warsaw:20210612T190000
DTEND;TZID=Europe/Warsaw:20210612T220000
DTSTAMP:20210427T204129Z
URL:https://night4u.pl/wydarzenia/szpaku-dzieci-duchy-krakow-05-09-2020/
SUMMARY:Szpaku - Różowa Pantera - Kraków
DESCRIPTION:❗️DATA WYDARZENIA: 12.06.2021 ❗️\n\nnoSleep &amp\; GUGU
  zapraszają na solowy koncert Szpaka w Krakowie.\n\nWydarzenie jest czę
 ścią trasy koncertowej RÓŻOWA PANTERA.\n\nWszystkie bilety zachowują 
 ważność\, także te z pierwotną datą.\n\n🕷🕷🕷🕷🕷\n\n🎟
 Bilety🎟\n1️⃣pula - 45 PLN\n2️⃣pula - 50 PLN\n3️⃣pula - 55 P
 LN\n\n🚨Bilety dostępne wyłącznie na www.ticketos.pl 🚨\n\n________
 __________\nWstęp +16\nPoniżej tylko z pełnoprawnym opiekunem.\n\nOrgan
 izator wydarzenia jest beneficjentem Funduszu Wsparcia Kultury.
ATTACH;FMTTYPE=image/jpeg:https://night4u.pl/wp-content/uploads/2021/04/14
 9917_image_154160250_1317456511970087_2076699354847701697_n.jpg
CATEGORIES:małopolskie
LOCATION:Hala Forum\, Marii Konopnickiej 28\, Kraków\, 30-302\, Poland
GEO:50.04504;19.93639
X-APPLE-STRUCTURED-LOCATION;VALUE=URI;X-ADDRESS=Marii Konopnickiej 28\, Kra
 ków\, 30-302\, Poland;X-APPLE-RADIUS=100;X-TITLE=Hala Forum:geo:50.04504,
 19.93639
END:VEVENT
BEGIN:VTIMEZONE
TZID:Europe/Warsaw
X-LIC-LOCATION:Europe/Warsaw
BEGIN:DAYLIGHT
DTSTART:20210328T030000
TZOFFSETFROM:+0100
TZOFFSETTO:+0200
TZNAME:CEST
END:DAYLIGHT
END:VTIMEZONE
END:VCALENDAR