BEGIN:VCALENDAR
VERSION:2.0
PRODID:-//wp-events-plugin.com//7.2.3.1//EN
TZID:Europe/Warsaw
X-WR-TIMEZONE:Europe/Warsaw
BEGIN:VEVENT
UID:46408@night4u.pl
DTSTART;TZID=Europe/Warsaw:20200228T190000
DTEND;TZID=Europe/Warsaw:20200228T220000
DTSTAMP:20200228T215828Z
URL:https://night4u.pl/wydarzenia/szpaku-dzieci-duchy-lodz-28-02-2020/
SUMMARY:Szpaku - Dzieci Duchy - Łódź 28/02/2020
DESCRIPTION:noSleep &amp\; GUGU zapraszają na solowy koncert Szpaka w Łod
 zi.\nKoncert jest częścią  trasy koncertowej DZIECI DUCHY TOUR.\n\n19:0
 0 - Otwarcie drzwi\n19:30 - Ejten\n20:00 - Karol'ek\n20:15 - Szpaku\n\n
 🕷🕷🕷🕷🕷\n\n🎟Bilety🎟\n1️⃣pula - 45 PLN /// WYPRZEDAN
 A\n2️⃣pula - 50 PLN /// WYPRZEDANA\n3️⃣pula - 55 PLN\nNa bramce w 
 dniu koncertu - 60 PLN \n\n🚨Bilety w przedsprzedaży dostępne wyłącz
 nie na www.dzieciduchy.pl 🚨\n\n🕷🕷🕷🕷🕷\n\nDZIECI DUCHY to 
 debiutancka płyta Szpaka oraz Kubiego Producenta wydana pod szyldem GUGU.
 \n\nZapraszamy każdego śmiałka do poznania tego magicznego\, przerażaj
 ącego\, a zarazem baśniowego świata.\n\nTworzymy nową kulturę\, tworz
 ymy DZIECI DUCHY.\n\nSupport: \n- Ejten\n\n__________________\nWstęp +16\
 nPoniżej tylko z pełnoprawnym opiekunem.
ATTACH;FMTTYPE=image/jpeg:https://night4u.pl/wp-content/uploads/2020/02/15
 2214_image_81947082_1004297356619339_994390052643536896_o.jpg
CATEGORIES:łódzkie
LOCATION:Teatr Club - Łódź\, Moniuszki 4a\, Łódź\, 90-111\, Poland
GEO:51.768714;19.457977
X-APPLE-STRUCTURED-LOCATION;VALUE=URI;X-ADDRESS=Moniuszki 4a\, Łódź\, 90
 -111\, Poland;X-APPLE-RADIUS=100;X-TITLE=Teatr Club - Łódź:geo:51.76871
 4,19.457977
END:VEVENT
BEGIN:VTIMEZONE
TZID:Europe/Warsaw
X-LIC-LOCATION:Europe/Warsaw
BEGIN:STANDARD
DTSTART:20191027T020000
TZOFFSETFROM:+0200
TZOFFSETTO:+0100
TZNAME:CET
END:STANDARD
END:VTIMEZONE
END:VCALENDAR