BEGIN:VCALENDAR
VERSION:2.0
PRODID:-//wp-events-plugin.com//7.2.3.1//EN
TZID:Europe/Warsaw
X-WR-TIMEZONE:Europe/Warsaw
BEGIN:VEVENT
UID:45054@night4u.pl
DTSTART;TZID=Europe/Warsaw:20201018T190000
DTEND;TZID=Europe/Warsaw:20201018T220000
DTSTAMP:20200424T190043Z
URL:https://night4u.pl/wydarzenia/szpaku-dzieci-duchy-radom-03-04-2020/
SUMMARY:Szpaku - Dzieci Duchy - Radom 18/10/2020
DESCRIPTION:noSleep &amp\; GUGU zapraszają na solowy koncert Szpaka w Rado
 miu.\nKoncert jest częścią trasy koncertowej DZIECI DUCHY TOUR.\n\n🕷
 🕷🕷🕷🕷\nNOWA DATA KONCERTU - 18.10.2020\nWSZYSTKIE BILETY ZACHOW
 UJĄ WAŻNOŚĆ\, RÓWNIEŻ TE Z PIERWOTNĄ DATĄ.\n🕷🕷🕷🕷🕷\n
 \n🎟Bilety🎟\n1️⃣pula - 45 PLN\n2️⃣pula - 50 PLN\n3️⃣pula 
 - 55 PLN\n\n🚨Bilety dostępne wyłącznie na www.dzieciduchy.pl 🚨\n\
 n🕷🕷🕷🕷🕷\n\nDZIECI DUCHY to debiutancka płyta Szpaka oraz Ku
 biego Producenta wydana pod szyldem GUGU.\n\nZapraszamy każdego śmiałka
  do poznania tego magicznego\, przerażającego\, a zarazem baśniowego ś
 wiata.\n\nTworzymy nową kulturę\, tworzymy DZIECI DUCHY.\n\n____________
 ______\nWstęp +16\nPoniżej tylko z pełnoprawnym opiekunem.
ATTACH;FMTTYPE=image/jpeg:https://night4u.pl/wp-content/uploads/2020/03/14
 6191_image_91003312_1057647077951033_5971452838771949568_o.jpg
CATEGORIES:mazowieckie
LOCATION:Sala Koncertowa W Um Radom\, Ul Żeromskiego 53\, Radom\, 26-602\,
  Poland
GEO:51.401524;21.158288
X-APPLE-STRUCTURED-LOCATION;VALUE=URI;X-ADDRESS=Ul Żeromskiego 53\, Radom\
 , 26-602\, Poland;X-APPLE-RADIUS=100;X-TITLE=Sala Koncertowa W Um Radom:ge
 o:51.401524,21.158288
END:VEVENT
BEGIN:VTIMEZONE
TZID:Europe/Warsaw
X-LIC-LOCATION:Europe/Warsaw
BEGIN:DAYLIGHT
DTSTART:20200329T030000
TZOFFSETFROM:+0100
TZOFFSETTO:+0200
TZNAME:CEST
END:DAYLIGHT
END:VTIMEZONE
END:VCALENDAR