BEGIN:VCALENDAR
VERSION:2.0
PRODID:-//wp-events-plugin.com//7.2.3.1//EN
TZID:Europe/Warsaw
X-WR-TIMEZONE:Europe/Warsaw
BEGIN:VEVENT
UID:46836@night4u.pl
DTSTART;TZID=Europe/Warsaw:20210604T190000
DTEND;TZID=Europe/Warsaw:20210604T220000
DTSTAMP:20210427T204136Z
URL:https://night4u.pl/wydarzenia/szpaku-dzieci-duchy-wroclaw-17-04-2020/
SUMMARY:Szpaku - Różowa Pantera - Wrocław
DESCRIPTION:❗️DATA WYDARZENIA: 04.06.2021 ❗️\n\nnoSleep &amp\; GUGU
  zapraszają na solowy koncert Szpaka we Wrocławiu.\nWydarzenie jest czę
 ścią trasy koncertowej Różowa Pantera.\n\nWSZYSTKIE BILETY ZACHOWUJĄ 
 WAŻNOŚĆ\, TAKŻE TE Z PIERWOTNĄ DATĄ.\n\n🕷🕷🕷🕷🕷\n\n🎟
 Bilety🎟\n1️⃣pula - 45 PLN // WYPRZEDANE\n2️⃣pula - 50 PLN // WY
 PRZEDANE\n3️⃣pula - 55 PLN\n\n🚨Bilety dostępne wyłącznie na www.
 ticketos.pl 🚨\n\n__________________\nWstęp +16\nPoniżej tylko z pełn
 oprawnym opiekunem.\n\nOrganizator wydarzenia jest beneficjentem Funduszu 
 Wsparcia Kultury.
ATTACH;FMTTYPE=image/jpeg:https://night4u.pl/wp-content/uploads/2021/04/15
 4176_image_154110300_1317456818636723_5066433123749909208_n.jpg
CATEGORIES:dolnośląskie
LOCATION:Akademia\, Grunwaldzka 67\, Wroclaw\, 50-357\, Poland
GEO:51.11448;17.06641
X-APPLE-STRUCTURED-LOCATION;VALUE=URI;X-ADDRESS=Grunwaldzka 67\, Wroclaw\, 
 50-357\, Poland;X-APPLE-RADIUS=100;X-TITLE=Akademia:geo:51.11448,17.06641
END:VEVENT
BEGIN:VTIMEZONE
TZID:Europe/Warsaw
X-LIC-LOCATION:Europe/Warsaw
BEGIN:DAYLIGHT
DTSTART:20210328T030000
TZOFFSETFROM:+0100
TZOFFSETTO:+0200
TZNAME:CEST
END:DAYLIGHT
END:VTIMEZONE
END:VCALENDAR