BEGIN:VCALENDAR
VERSION:2.0
PRODID:-//wp-events-plugin.com//7.2.3.1//EN
TZID:Europe/Warsaw
X-WR-TIMEZONE:Europe/Warsaw
BEGIN:VEVENT
UID:6089@night4u.pl
DTSTART;TZID=Europe/Warsaw:20190315T230000
DTEND;TZID=Europe/Warsaw:20190316T070000
DTSTAMP:20190206T194326Z
URL:https://night4u.pl/wydarzenia/szukam-chlopaka-dziewczyny-techno-iv/
SUMMARY:Szukam chłopaka/dziewczyny techno IV
DESCRIPTION:Szukam chłopaka/dziewczyny techno IV:\nExpected Gates B-Day ed
 ition \n\nConcept Of Thrill\nExpected Gates\nG-Sound \nRaroh live\nSylad\n
  \n\nTax: 10/15 PLN\n\nGrafika: Klaudia Bochniak\n\nBIO \n\nConcept Of Thr
 ill\n\nDj\, producent\, live performer oraz założyciel wytwórni DRVMS L
 TD.. To jeden z najciekawszych artystów zarówno na polskiej jak i zagran
 icznej scenie. Do dziś pamiętamy jego genialny występ podczas Audiorive
 r 2017 roku! Mogliście go usłyszeć między innymi w słynnych klubach t
 akich jak chociażby Khidi Nightclub w Georgi czy Arena Club w Berlinie.\n
 \nhttps://www.residentadvisor.net/dj/conceptofthrill\n\n\nExpected Gates\n
 \nDuet Expected Gates (Maciej i Mariusz) to łódźki kolektyw\, którego 
 mieliście możliwość usłyszeć w takich klubach jak Soda Underground S
 tage w Łodzi\, Szpitalna 1 w Krawkowie czy Drugi Dom w Gdyni. To dje i pr
 omotorzy wspierający Szukam chłopaka/dziewczyny techno oraz Pogotowie Te
 chno. Po ich graniu możecie spodziewać się hipnotycznych brzmień poł
 ączonych z mocniejszymi dźwiękami. \nhttps://hearthis.at/expected-gates
 / \nhttps://www.mixcloud.com/Expected_Gates/ \n\n\n\nG-Sound [Skylark Reco
 rds]\n\nJeden z najlepszych łódźkich djów. Jego sety zawsze wciągają
  i zaskakują. Perfekcyjna technika.  Na codzień związany z Skylark Reco
 rds. \nhttps://www.mixcloud.com/gsound/\n\n\nRaroh[Unknown  Timeline ]\nRa
 roh to urodzony i żyjący w Warszawie producent i live-performer skupiony
  na hipnotycznej\, mglistej i intensywnej stronie techno. Jego głównym m
 uzycznym celem jest opowiedzenie wciągającej historii\, w której słuch
 acz może się zupełnie zanurzyć i zagubić. Pod wpływem lokalnych wars
 zawskich imprez z muzyką elektroniczną\, rozpoczął\, w młodym wieku\,
  odkrywanie nowych elektronicznych brzmień\, rytmów i dźwięków\, czeg
 o owocem są jego produkcje. Raroh w swojej muzyce mówi o rzeczach\, któ
 re się wydarzyły\, w różnych miejscach i różnym czasie\, tworząc z 
 nich nowe konstelacje i łącząc je w jedną\, spójną opowieść. Ostat
 nio swoją epkę wydał w w wytwórni Unknown Timeline.\n\n\nSylad\n\nProm
 otorka\, związana z fanpage Szukam chłopaka/dziewczyny techno. Kreatywna
 \, artystyczna! Po jej debiucie na schodach tym razem zagra dla Was warm-u
 p! \n\n\nPartnerzy:\nElectronic Slaves\nPogotowie Techno\nModa na Techno
ATTACH;FMTTYPE=image/jpeg:https://night4u.pl/wp-content/uploads/2019/02/18
 211_image_50675815_1249596421832203_5234657293701742592_o.jpg
CATEGORIES:łódzkie
LOCATION:SODA Underground Stage\, Plac Komuny Paryskiej 6\, Łódź\, 90-00
 7\, Poland
GEO:51.76518;19.45941
X-APPLE-STRUCTURED-LOCATION;VALUE=URI;X-ADDRESS=Plac Komuny Paryskiej 6\, 
 Łódź\, 90-007\, Poland;X-APPLE-RADIUS=100;X-TITLE=SODA Underground Stag
 e:geo:51.76518,19.45941
END:VEVENT
BEGIN:VTIMEZONE
TZID:Europe/Warsaw
X-LIC-LOCATION:Europe/Warsaw
BEGIN:STANDARD
DTSTART:20181028T020000
TZOFFSETFROM:+0200
TZOFFSETTO:+0100
TZNAME:CET
END:STANDARD
END:VTIMEZONE
END:VCALENDAR