BEGIN:VCALENDAR
VERSION:2.0
PRODID:-//wp-events-plugin.com//7.2.3.1//EN
TZID:Europe/Warsaw
X-WR-TIMEZONE:Europe/Warsaw
BEGIN:VEVENT
UID:42299@night4u.pl
DTSTART;TZID=Europe/Warsaw:20200116T200000
DTEND;TZID=Europe/Warsaw:20200116T220000
DTSTAMP:20200116T054007Z
URL:https://night4u.pl/wydarzenia/szybki-przelot-kino-japonii/
SUMMARY:Szybki Przelot: kino Japonii
DESCRIPTION:Podczas 4. spotkania filmowego w P29 lecimy do Japonii lat 60 i
  jednego z najwybitniejszych filmów dekady. \n\n"Kobieta z wydm" reż. Hi
 roshi Teshingahary jest adaptacją powieści Abe Kobo o tym samym tytule. 
 Film opowiada historię  kobiety mieszkającej na odludziu w nadmorskiej m
 iejscowości i mężczyzny\, który trafiając przypadkiem do jej domu\, z
 muszony jest w nim pozostać. Opowiadana historia jest metaforą ludzkiego
  życia ze wszystkimi jego aspektami: miłością\, strachem\, buntem\, re
 zygnacją\, walką i poddaniem. \nJest to niewątpliwie jeden z najbardzie
 j rozpoznawalnych w świecie filmów japońskiego kina\, przełamujący je
 go\, wywodzący się z tradycji\, teatralny charakter.  \n\n"Kobietę z wy
 dm" wyświetlimy już 16 stycznia!\n\n\n16.01.2020 (czwartek)\nStart proje
 kcji: 20:00\n\nP29\, Piotrkowska 29 \n(wejście od ul. Więckowskiego)\n\n
 Wstęp: free
ATTACH;FMTTYPE=image/jpeg:https://night4u.pl/wp-content/uploads/2020/01/13
 3189_image_81447832_481378499185630_3553583987123290112_o.jpg
CATEGORIES:łódzkie
LOCATION:P29\, Piotrkowska 29\, Łódź\, 90-410\, Poland
GEO:51.772549;19.455285
X-APPLE-STRUCTURED-LOCATION;VALUE=URI;X-ADDRESS=Piotrkowska 29\, Łódź\, 
 90-410\, Poland;X-APPLE-RADIUS=100;X-TITLE=P29:geo:51.772549,19.455285
END:VEVENT
BEGIN:VTIMEZONE
TZID:Europe/Warsaw
X-LIC-LOCATION:Europe/Warsaw
BEGIN:STANDARD
DTSTART:20191027T020000
TZOFFSETFROM:+0200
TZOFFSETTO:+0100
TZNAME:CET
END:STANDARD
END:VTIMEZONE
END:VCALENDAR