BEGIN:VCALENDAR
VERSION:2.0
PRODID:-//wp-events-plugin.com//7.2.3.1//EN
TZID:Europe/Warsaw
X-WR-TIMEZONE:Europe/Warsaw
BEGIN:VEVENT
UID:32001@night4u.pl
DTSTART;TZID=Europe/Warsaw:20191018T210000
DTEND;TZID=Europe/Warsaw:20191019T050000
DTSTAMP:20191014T025733Z
URL:https://night4u.pl/wydarzenia/taito-live-set-%e2%9c%aa-pt-18-10/
SUMMARY:TAITO Live set ✪ Pt. 18.10
DESCRIPTION:W piątek 18 października zapraszamy Was na niesamowitą impre
 zę! Do naszego klubu powraca król pompy TAITO ze swoim MEGA energetyczny
 m setem 💥. Twórca imprezowych hitów takich jak: Bambadam\, Partyshots
  czy  legendarnego Bounce!\n\nDo zobaczenia! 🙏\n______________________\
 nINFORMACJE\n📅 18.10 - PIĄTEK\n🕘 Start: 21:00\n🔞 Selekcja: 17 LA
 T\n🎫 Wstęp:\nStudenci - 5zł\nReszta świata - 10zł\nWszyscy do 22:00
  wstęp FREE\nPanie do 24:00 wstęp FREE\n📌 Bielsko-Biała\, ul. Graży
 ńskiego 38\n--\nPROMOCJE\n🎂 Odprawimy Twoje urodziny!\nA także zorgan
 izujemy:\n💃 Wieczór Panieński\n🕺 Wieczór Kawalerski\nRezerwacje o
 d wtorku do soboty od 13:00 do 21:00\n📱 536 901 907\n📧 mojaimpreza@p
 omaranczagroup.pl\n--\nREZERWACJA LOŻY\nRezerwacje od wtorku do piątku o
 d 11:00 do 16:00\n📱 508 141 760\n--\nMUZYKA\nSALA KLUBOWA ▶ RO-BEE\n-
 -\nINSTAGRAM\nwww.instagram.com/pomarancza_bielsko
ATTACH;FMTTYPE=image/jpeg:https://night4u.pl/wp-content/uploads/2019/10/75
 610_image_72848694_2475714305798026_6137904863264112640_o.jpg
CATEGORIES:śląskie
LOCATION:Klub Pomarańcza Bielsko-Biała\, Grażyńskiego 38\, Bielsko-Bia
 ła\, 43-382\, Poland
GEO:49.832975;19.049502
X-APPLE-STRUCTURED-LOCATION;VALUE=URI;X-ADDRESS=Grażyńskiego 38\, Bielsko
 -Biała\, 43-382\, Poland;X-APPLE-RADIUS=100;X-TITLE=Klub Pomarańcza Biel
 sko-Biała:geo:49.832975,19.049502
END:VEVENT
BEGIN:VTIMEZONE
TZID:Europe/Warsaw
X-LIC-LOCATION:Europe/Warsaw
BEGIN:DAYLIGHT
DTSTART:20190331T030000
TZOFFSETFROM:+0100
TZOFFSETTO:+0200
TZNAME:CEST
END:DAYLIGHT
END:VTIMEZONE
END:VCALENDAR