BEGIN:VCALENDAR
VERSION:2.0
PRODID:-//wp-events-plugin.com//7.2.3.1//EN
TZID:Europe/Warsaw
X-WR-TIMEZONE:Europe/Warsaw
BEGIN:VEVENT
UID:30305@night4u.pl
DTSTART;TZID=Europe/Warsaw:20191004T210000
DTEND;TZID=Europe/Warsaw:20191005T050000
DTSTAMP:20191003T235115Z
URL:https://night4u.pl/wydarzenia/take-it-off-vibe-mike-basgrow/
SUMMARY:Take It OFF | Vibe & Mike Basgrow
DESCRIPTION:EGO Sopot zaprasza na piątkową imprezę Takie It OFF. Razem z
  DJ VIBE Official Profile & Mike Basgrow oraz ich połączeniu najlepszych
  brzmień: Rap\, Twerk\, Tropical Bass\, R’n’B\, NuDisco\, Space Funk\
 , G-House czy Soul jest gwarantem najlepszej imprezy w Sopocie! Wszyscy w 
 piątek #widzimysiewego :)\n\nRezerwacje stolików\noraz oferta dla grup z
 organizowanych:\n+ 48 731 351 351\n\n▬ 4.10.2019\n▬ Lista FB: free do 
 22.00\n▬ Wejście od 21 roku życia (lub za okazaniem legitymacji studen
 ckiej)\n▬ Karty klubowe EGO: Free
ATTACH;FMTTYPE=image/jpeg:https://night4u.pl/wp-content/uploads/2019/10/69
 883_image_71168646_10156941081389285_1801634481686183936_o.jpg
CATEGORIES:pomorskie
LOCATION:Ego Sopot\, ul. Bohaterów Monte Cassino 53\, Sopot\, 81-767\, Pol
 and
GEO:54.444297;18.566687
X-APPLE-STRUCTURED-LOCATION;VALUE=URI;X-ADDRESS=ul. Bohaterów Monte Cassin
 o 53\, Sopot\, 81-767\, Poland;X-APPLE-RADIUS=100;X-TITLE=Ego Sopot:geo:54
 .444297,18.566687
END:VEVENT
BEGIN:VTIMEZONE
TZID:Europe/Warsaw
X-LIC-LOCATION:Europe/Warsaw
BEGIN:DAYLIGHT
DTSTART:20190331T030000
TZOFFSETFROM:+0100
TZOFFSETTO:+0200
TZNAME:CEST
END:DAYLIGHT
END:VTIMEZONE
END:VCALENDAR