BEGIN:VCALENDAR
VERSION:2.0
PRODID:-//wp-events-plugin.com//7.2.3.1//EN
TZID:Europe/Warsaw
X-WR-TIMEZONE:Europe/Warsaw
BEGIN:VEVENT
UID:32469@night4u.pl
DTSTART;TZID=Europe/Warsaw:20191019T220000
DTEND;TZID=Europe/Warsaw:20191020T050000
DTSTAMP:20191019T215314Z
URL:https://night4u.pl/wydarzenia/tance-hulanka-swawola-sobota-cooltura-ch
 mielna-101-6/
SUMMARY:Tańce\, hulanka\, swawola! / Sobota / Cooltura Chmielna 101
DESCRIPTION:"Jedzą\, piją\, lulki palą\,\nTańce\, hulanka\, swawola\;\n
 Ledwie karczmy nie rozwalą\,\nCha cha\, chi chi\, hejza\, hola!"\n\n𝘱
 𝘰𝘥𝘱𝘪𝘴𝘢𝘯𝘰\nAdaś M.\n\n▶︎ ZURT - rezydent klubu
  Cooltura Chmielna 101\, niekwestionowany mistrz wagi ciężkiej w mashupa
 ch. Potrafi rozbujać nawet największych drewniaków. Nie zdziw się\, ja
 k w środku nocy usłyszysz "Last Christmas" w wersji trap. To znak\, że 
 impreza wchodzi na poziom wyżej\, a Ty koniecznie musisz uzupełnić pły
 ny przy barze. Uwaga! Zdarza się\, że po sobotnich imprezach z Zurtem kl
 ubowicze wracają na czworaka...\n\n💃 TAŃCE NA BARZE\n😮 WÓDA DO RY
 JA\n🆒 PEŁNA COOLTURA\n\n----------------------------------------------
 ----\nSpragniony wrażeń? → http://bit.ly/CoolturalnaKartaKoktajlowa\n\
 n・Start 22:00.\n・Wstęp tylko dla osób pełnoletnich.\n・Selekcja na
  wejściu - organizator może odmówić wejścia do klubu.
ATTACH;FMTTYPE=image/jpeg:https://night4u.pl/wp-content/uploads/2019/10/78
 042_image_72691418_1398189450359367_3725751998906105856_o.jpg
CATEGORIES:pomorskie
LOCATION:Cooltura Chmielna 101\, Chmielna 101\, Gdansk\, 80-748\, Poland
GEO:54.34722;18.65729
X-APPLE-STRUCTURED-LOCATION;VALUE=URI;X-ADDRESS=Chmielna 101\, Gdansk\, 80-
 748\, Poland;X-APPLE-RADIUS=100;X-TITLE=Cooltura Chmielna 101:geo:54.34722
 ,18.65729
END:VEVENT
BEGIN:VTIMEZONE
TZID:Europe/Warsaw
X-LIC-LOCATION:Europe/Warsaw
BEGIN:DAYLIGHT
DTSTART:20190331T030000
TZOFFSETFROM:+0100
TZOFFSETTO:+0200
TZNAME:CEST
END:DAYLIGHT
END:VTIMEZONE
END:VCALENDAR