BEGIN:VCALENDAR
VERSION:2.0
PRODID:-//wp-events-plugin.com//7.2.3.1//EN
TZID:Europe/Warsaw
X-WR-TIMEZONE:Europe/Warsaw
BEGIN:VEVENT
UID:19659@night4u.pl
DTSTART;TZID=Europe/Warsaw:20190622T210000
DTEND;TZID=Europe/Warsaw:20190623T040000
DTSTAMP:20190619T103619Z
URL:https://night4u.pl/wydarzenia/taneczne-powitanie-lata-w-klubie-nafta/
SUMMARY:Taneczne powitanie LATA w klubie Nafta
DESCRIPTION:To już lato\, to już lato\,\nsłoneczniej serca biją\ni waka
 cyjna miłość.\n\nZ przytupem i tanecznie rozpoczynamy LATO 2019! Najwi
 ększe wakacyjne przeboje i tegoroczne letnie hity i latino beat's zagra D
 J LENZO. \n\n❌❌❌\nMUSIC\nsłoneczne hity gra DJ LENZO\n\n❌❌❌\n
 PROMO BAR\nDzban dowolnego soku przy zakupie 0\,5 l wódki Ostoya lub Finl
 andia\n\n❌❌❌\nDRESS CODE\nElegancki letni dress code. Mężczyźni m
 ogą wchodzić do klubu w eleganckich krótkich spodenkach :D \n\n❌❌
 ❌\nWJAZD\ndo 22:00 dziewczyny -> 10 zł\nnormalnie: 16 zł\nWiek: +21\n\
 n❌❌❌\nREZERWACJE LOŻY:\nTEL: 785 930 565
ATTACH;FMTTYPE=image/jpeg:https://night4u.pl/wp-content/uploads/2019/06/47
 362_image_64570988_1497901080346799_4941109881181569024_o.jpg
CATEGORIES:podkarpackie
LOCATION:Club Nafta\, ul. Lwowska 21\, Krosno\, 38-440\, Poland
GEO:49.683733;21.772154
X-APPLE-STRUCTURED-LOCATION;VALUE=URI;X-ADDRESS=ul. Lwowska 21\, Krosno\, 3
 8-440\, Poland;X-APPLE-RADIUS=100;X-TITLE=Club Nafta:geo:49.683733,21.7721
 54
END:VEVENT
BEGIN:VTIMEZONE
TZID:Europe/Warsaw
X-LIC-LOCATION:Europe/Warsaw
BEGIN:DAYLIGHT
DTSTART:20190331T030000
TZOFFSETFROM:+0100
TZOFFSETTO:+0200
TZNAME:CEST
END:DAYLIGHT
END:VTIMEZONE
END:VCALENDAR