BEGIN:VCALENDAR
VERSION:2.0
PRODID:-//wp-events-plugin.com//7.2.3.1//EN
TZID:Europe/Warsaw
X-WR-TIMEZONE:Europe/Warsaw
BEGIN:VEVENT
UID:20981@night4u.pl
DTSTART;TZID=Europe/Warsaw:20190830T210000
DTEND;TZID=Europe/Warsaw:20190831T030000
DTSTAMP:20190704T024512Z
URL:https://night4u.pl/wydarzenia/tanecznie-energetycznie-prezentuje-dj-fa
 fer-lista-fb-free-do-23-23/
SUMMARY:Tanecznie Energetycznie prezentuje Dj Fąfer Lista FB Free do 23
DESCRIPTION:? Cykl imprez w Klub Kosmos Poznań\nWeekendy rozpoczynamy z im
 prezą  Tanecznie Energetycznie prezentuje Dj Fąfer \n\n Muzyka nowa\, kl
 ubowa\, dance\, plus dobre stare  klasyki!\n\nO oprawę muzyczną zadba DJ
  FĄFER czyli Tomasz Fąferek\n Tomasz Fąferek to twórca dużego projekt
 u pod nazwą Kochamy lata 90-te\nZ powodzeniem gra od wielu lat na poznań
 skiej i ogólnopolskiej scenie. \n\nWstęp = 10 zł\nLista FB do 23:00 wst
 ęp FREE\nObowiązuje selekcja +21\nNie wpuszczamy w dresach i spodenkach 
 które wyglądają na sportowe. \n\nKażdy piątek od godz\, 21:00 - 3:00\
 nKlub Kosmos Poznań III piętro\n(Galeria MM) ul. Święty Marcin 24\, Po
 znań\n\nWstęp: 10 PLN\nRezerwacje loży: tel. 612225051\n\nUWAGA! W klub
 ie obowiązuje selekcja !
ATTACH;FMTTYPE=image/jpeg:https://night4u.pl/wp-content/uploads/2019/07/50
 126_image_66195131_2313929702023553_7469190260820279296_n.jpg
CATEGORIES:wielkopolskie
LOCATION:Klub Kosmos Poznań\, Święty Marcin 24\, Poznan\, 61-805\, Polan
 d
GEO:52.40657;16.927998
X-APPLE-STRUCTURED-LOCATION;VALUE=URI;X-ADDRESS=Święty Marcin 24\, Poznan
 \, 61-805\, Poland;X-APPLE-RADIUS=100;X-TITLE=Klub Kosmos Poznań:geo:52.4
 0657,16.927998
END:VEVENT
BEGIN:VTIMEZONE
TZID:Europe/Warsaw
X-LIC-LOCATION:Europe/Warsaw
BEGIN:DAYLIGHT
DTSTART:20190331T030000
TZOFFSETFROM:+0100
TZOFFSETTO:+0200
TZNAME:CEST
END:DAYLIGHT
END:VTIMEZONE
END:VCALENDAR