BEGIN:VCALENDAR
VERSION:2.0
PRODID:-//wp-events-plugin.com//7.2.3.1//EN
TZID:Europe/Warsaw
X-WR-TIMEZONE:Europe/Warsaw
BEGIN:VEVENT
UID:22968@night4u.pl
DTSTART;TZID=Europe/Warsaw:20190811T170000
DTEND;TZID=Europe/Warsaw:20190811T200000
DTSTAMP:20190724T170258Z
URL:https://night4u.pl/wydarzenia/taneczny-fajer-pod-spodkiem/
SUMMARY:Taneczny Fajer Pod Spodkiem
DESCRIPTION:Gastrofajer & Szkoła Tańca Good Mood Zapraszają Na \nGastro 
 Salsa Bachata Kizomba Pod Spodkiem\n\nPo raz pierwszy na tarasach Spodka c
 oś dla miłośników Salsy\, Bachaty i Kizomby? \n\nWyjątkowe niedzielne
  popołudnie dla spragnionych i głodnych... latynoskiej muzyki.\n\nBędzi
 e gorąca salsa\, zatańczymy ruede\, sensualną i dominikańską Bachate\
 , zrobimy powtókę z kizombowego flash moba\, pojawią się animacje i wi
 ele innych ciekawych rzeczy! Nie może zabraknąć i Ciebie! ?\n\nPrzyjdż
  z nami potańczyć przed Katowicki Spodek!\n\nSkład Djski ogłosimy nieb
 awem. \n\nSTART\n11 sierpnia 17:00 na tarasach spodka -> zapachy z food tr
 uck-ów zaprowadzą was prosto na naszą imprezę\n\nBawimy się do 20:00\
 n\nW co warto się zaopatrzyć?\n->wygodne butki ? \n->dobry humor ? \n->z
 abierz znajomych ? \n->jedzonka\, napojów i muzyki u nas nie braknie ? ? 
 ?
ATTACH;FMTTYPE=image/jpeg:https://night4u.pl/wp-content/uploads/2019/07/54
 279_image_67314721_2276074892506330_793987587281780736_o.jpg
CATEGORIES:śląskie
LOCATION:Gastrofajer\, Katowice\, Poland
GEO:50.266044;19.025897
X-APPLE-STRUCTURED-LOCATION;VALUE=URI;X-ADDRESS=Katowice\, Poland;X-APPLE-R
 ADIUS=100;X-TITLE=Gastrofajer:geo:50.266044,19.025897
END:VEVENT
BEGIN:VTIMEZONE
TZID:Europe/Warsaw
X-LIC-LOCATION:Europe/Warsaw
BEGIN:DAYLIGHT
DTSTART:20190331T030000
TZOFFSETFROM:+0100
TZOFFSETTO:+0200
TZNAME:CEST
END:DAYLIGHT
END:VTIMEZONE
END:VCALENDAR