BEGIN:VCALENDAR
VERSION:2.0
PRODID:-//wp-events-plugin.com//7.2.3.1//EN
TZID:Europe/Warsaw
X-WR-TIMEZONE:Europe/Warsaw
BEGIN:VEVENT
UID:6079@night4u.pl
DTSTART;TZID=Europe/Warsaw:20190131T180000
DTEND;TZID=Europe/Warsaw:20190131T223000
DTSTAMP:20190201T053549Z
URL:https://night4u.pl/wydarzenia/tango-czwartek-31-i-milonga-u-architekto
 w-polnocna-12-krancowka/
SUMMARY:TANGO Czwartek 31 I. Milonga u Architektów Północna 12 krańców
 ka
DESCRIPTION:31 stycznia  TANGO. Zapraszamy na milongę na pętli tramwajowe
 j w Parku Staromiejskim na ul. Północnej 12 (sala Łódzkiej Izby Archit
 ektów)\nStart o godz. 18\nPrzez pierwszą godzinę Lekcja Podstaw Tanga /
  Praktika -prowadzenie Paweł (Milonga)\,\na  po godzinie 19... właściwa
  impreza\nFINISZ  tak gdzieś ok. 22.30\n\nMIEJSCE\, Sala posiada piękny 
 parkiet i widok na Park Staromiejski. \nPARKING. Miejsc parkingowych jest 
 sporo\, są zlokalizowane wzdłuż peronu od strony torowiska. Nowych goś
 ci prosimy o konsultowanie się z nami w kwestii parkowania/wyboru miejsc 
 -będziemy je pokazywać zainteresowanym.\n\nZrzutka po 10 pln\n\ninformac
 je http://milongawlodzi.pl/category/thursday/
ATTACH;FMTTYPE=image/jpeg:https://night4u.pl/wp-content/uploads/2019/02/18
 189_image_50853918_365805497566980_3168827936140689408_n.jpg
CATEGORIES:łódzkie
END:VEVENT
BEGIN:VTIMEZONE
TZID:Europe/Warsaw
X-LIC-LOCATION:Europe/Warsaw
BEGIN:STANDARD
DTSTART:20181028T020000
TZOFFSETFROM:+0200
TZOFFSETTO:+0100
TZNAME:CET
END:STANDARD
END:VTIMEZONE
END:VCALENDAR