BEGIN:VCALENDAR
VERSION:2.0
PRODID:-//wp-events-plugin.com//7.2.3.1//EN
TZID:Europe/Warsaw
X-WR-TIMEZONE:Europe/Warsaw
BEGIN:VEVENT
UID:33835@night4u.pl
DTSTART;TZID=Europe/Warsaw:20191030T190000
DTEND;TZID=Europe/Warsaw:20191030T230000
DTSTAMP:20191030T091539Z
URL:https://night4u.pl/wydarzenia/tango-sroda-30-x-g-19-milonga-na-przysta
 nku-ul-polnocna-12/
SUMMARY:TANGO środa 30 X g. 19 Milonga na Przystanku - ul.Północna 12
DESCRIPTION:W środę 30 października  TANGO. Zapraszamy na milongę na p
 ętli tramwajowej na ul. Północnej 12 (sala  Łódzkiej Izby Architektó
 w)\nStartujemy o godz. 19\nPrzez pierwszą godzinę Lekcja Podstaw Tanga /
  Praktika -prowadzenie Paweł (Milonga)\, \na  po godzinie 20... właściw
 a impreza\nFINISZ  tak gdzieś ok. 23.00\n\nMIEJSCE\, Sala posiada piękny
  parkiet i widok na park Staromiejski. \nPARKING. Miejsc parkingowych jest
  sporo\, będziemy je pokazywać wszystkim zainteresowanym\, bo nie są zl
 okalizowane w miejscach oczywistych.\nZrzutka po 10 pln\n\ninformacje http
 ://milongawlodzi.pl/blog/\nkontakt: 604 59 59 61
ATTACH;FMTTYPE=image/jpeg:https://night4u.pl/wp-content/uploads/2019/10/85
 669_image_75553081_529360621211466_6873459429073747968_n.jpg
CATEGORIES:łódzkie
LOCATION:Przystanek Tango\, Północna 12\, Łódź\, 91-420\, Poland
GEO:51.779617;19.459512
X-APPLE-STRUCTURED-LOCATION;VALUE=URI;X-ADDRESS=Północna 12\, Łódź\, 9
 1-420\, Poland;X-APPLE-RADIUS=100;X-TITLE=Przystanek Tango:geo:51.779617,1
 9.459512
END:VEVENT
BEGIN:VTIMEZONE
TZID:Europe/Warsaw
X-LIC-LOCATION:Europe/Warsaw
BEGIN:STANDARD
DTSTART:20191027T020000
TZOFFSETFROM:+0200
TZOFFSETTO:+0100
TZNAME:CET
END:STANDARD
END:VTIMEZONE
END:VCALENDAR