BEGIN:VCALENDAR
VERSION:2.0
PRODID:-//wp-events-plugin.com//7.2.3.1//EN
TZID:Europe/Warsaw
X-WR-TIMEZONE:Europe/Warsaw
BEGIN:VEVENT
UID:49920@night4u.pl
DTSTART;TZID=Europe/Warsaw:20200321T210000
DTEND;TZID=Europe/Warsaw:20200322T050000
DTSTAMP:20200318T220420Z
URL:https://night4u.pl/wydarzenia/taniec-z-gwiazdami/
SUMMARY:Taniec z gwiazdami
DESCRIPTION:Taniec z gwiazdami to impreza dla ludzi\, którzy kochają tani
 ec i gwiazdy. Ale również dla tych\, którzy są gwiazdami bądź mają 
 szczere aspiracje na ich bycie. Ewentualnie potrafią zrobić gwiazdę lub
  rozgwiazdę (sprawdzimy).\n\n Za gramofonami gwiazda wieczoru - dj Grejtu
 \n\nPiękna Pszczoła\n⭐️ "Najlepszy klub w mieście" ⭐️\n\nStart 
 21\nWejście free do 23 / 15zł\n\n📅 REZERWACJE \nWszystkie informacje 
 dotyczące rezerwacji:\n☎️ 696-43-23-53\n📩 piekna@pieknapszczola.pl
ATTACH;FMTTYPE=image/jpeg:https://night4u.pl/wp-content/uploads/2020/03/17
 4226_image_89822286_445900332829063_1731889023162515456_n.jpg
CATEGORIES:lubelskie
LOCATION:Piękna Pszczoła\, Plac Teatralny 1 (Budynek CSK)\, Lublin\, 20-0
 37\, Poland
GEO:51.246524;22.548666
X-APPLE-STRUCTURED-LOCATION;VALUE=URI;X-ADDRESS=Plac Teatralny 1 (Budynek C
 SK)\, Lublin\, 20-037\, Poland;X-APPLE-RADIUS=100;X-TITLE=Piękna Pszczoł
 a:geo:51.246524,22.548666
END:VEVENT
BEGIN:VTIMEZONE
TZID:Europe/Warsaw
X-LIC-LOCATION:Europe/Warsaw
BEGIN:STANDARD
DTSTART:20191027T020000
TZOFFSETFROM:+0200
TZOFFSETTO:+0100
TZNAME:CET
END:STANDARD
END:VTIMEZONE
END:VCALENDAR