BEGIN:VCALENDAR
VERSION:2.0
PRODID:-//wp-events-plugin.com//7.2.3.1//EN
TZID:Europe/Warsaw
X-WR-TIMEZONE:Europe/Warsaw
BEGIN:VEVENT
UID:19407@night4u.pl
DTSTART;TZID=Europe/Warsaw:20190622T210000
DTEND;TZID=Europe/Warsaw:20190623T060000
DTSTAMP:20190614T195428Z
URL:https://night4u.pl/wydarzenia/taste-the-music-22-06-do-2200-wejscie-fr
 ee/
SUMMARY:Taste The Music // 22.06 // Do 22:00 wejście free
DESCRIPTION:Tego dnia na djce mocy skład Jacob A (vocal live act)\, Kocurr
 \, Dźwięk i Django! Co tydzień rozkręcamy najlepsze melanże w mieści
 e\, nie inaczej będzie w tę sobotę!\n ♥ Zbieraj ekipę i wpadaj na na
 sz dach! Najlepsza letnia miejscówka już jest otwarta ♥ \nImprezę nak
 ręca Finlandia Vodka! 
ATTACH;FMTTYPE=image/jpeg:https://night4u.pl/wp-content/uploads/2019/06/46
 778_image_62602362_2390175697692068_5766669442343763968_o.jpg
CATEGORIES:lubelskie
LOCATION:Riviera Klub Plażowy\, Lublin\, Poland
GEO:51.245225;22.557649
X-APPLE-STRUCTURED-LOCATION;VALUE=URI;X-ADDRESS=Lublin\, Poland;X-APPLE-RAD
 IUS=100;X-TITLE=Riviera Klub Plażowy:geo:51.245225,22.557649
END:VEVENT
BEGIN:VTIMEZONE
TZID:Europe/Warsaw
X-LIC-LOCATION:Europe/Warsaw
BEGIN:DAYLIGHT
DTSTART:20190331T030000
TZOFFSETFROM:+0100
TZOFFSETTO:+0200
TZNAME:CEST
END:DAYLIGHT
END:VTIMEZONE
END:VCALENDAR