BEGIN:VCALENDAR
VERSION:2.0
PRODID:-//wp-events-plugin.com//7.2.3.1//EN
TZID:Europe/Warsaw
X-WR-TIMEZONE:Europe/Warsaw
BEGIN:VEVENT
UID:15278@night4u.pl
DTSTART;TZID=Europe/Warsaw:20190518T220000
DTEND;TZID=Europe/Warsaw:20190519T050000
DTSTAMP:20190509T093643Z
URL:https://night4u.pl/wydarzenia/taste-the-music-label-night-sq-klub/
SUMMARY:Taste The Music label night | SQ klub
DESCRIPTION:18 Maja kolejna odsłona imprez pod szyldem wytwórni Taste The
  Music! Tym razem ekipa TTM zagra w rodzimym składzie. Gościem będzie p
 ochodzący z Trójmiasta dj i producent Stevens! Wspierać go będą Loui\
 , Tommy Gustav\, Deep Infect oraz Asca na chillroomie.\n\nDo zobaczenia!\n
 \n18.05 (sobota)\n\nStevens\nLoui\nTommy Gustav\nDeep Infect \nchillroom: 
 Asca\n\nstart: 22:00\n\nbilety: 20 zł do 00:00 / 25 zł po 00:00 | dziewc
 zyny do 23:00 wstęp FREE!
ATTACH;FMTTYPE=image/jpeg:https://night4u.pl/wp-content/uploads/2019/05/37
 747_image_59649000_10157372027287940_7232934898825166848_n.jpg
CATEGORIES:wielkopolskie
LOCATION:SQ klub\, Poznan\, Poland
GEO:52.40174;16.926687
X-APPLE-STRUCTURED-LOCATION;VALUE=URI;X-ADDRESS=Poznan\, Poland;X-APPLE-RAD
 IUS=100;X-TITLE=SQ klub:geo:52.40174,16.926687
END:VEVENT
BEGIN:VTIMEZONE
TZID:Europe/Warsaw
X-LIC-LOCATION:Europe/Warsaw
BEGIN:DAYLIGHT
DTSTART:20190331T030000
TZOFFSETFROM:+0100
TZOFFSETTO:+0200
TZNAME:CEST
END:DAYLIGHT
END:VTIMEZONE
END:VCALENDAR