BEGIN:VCALENDAR
VERSION:2.0
PRODID:-//wp-events-plugin.com//7.2.3.1//EN
TZID:Europe/Warsaw
X-WR-TIMEZONE:Europe/Warsaw
BEGIN:VEVENT
UID:27459@night4u.pl
DTSTART;TZID=Europe/Warsaw:20190928T200000
DTEND;TZID=Europe/Warsaw:20190929T040000
DTSTAMP:20190914T105423Z
URL:https://night4u.pl/wydarzenia/taste-the-music-loui-tommy-gustav-banan-
 sax-29-09-2019/
SUMMARY:Taste The Music // Loui\, Tommy Gustav\, Banan (sax) // 29.09.2019
DESCRIPTION:Czekaliście na największe wydarzenie we wrześniu? Oto i ono 
 :\nTASTE THE MUSIC\nZapraszamy na jedno z największych muzycznych wydarze
 ń tego roku w 2Be Club\n \nGościć będziemy: \nWojciech 'Loui' Kucharsk
 i\nTommy Gustav\nBanan On Sax\n\nSupport : DJ ALIEN X\n\nChciałbyś zarez
 erwować lożę na tą imprezę?\nWejdź na nasz system rezerwacyjny onlin
 e i wybierz stolik\, który odpowiada Ci najbardziej.\nNie czekaj i już d
 ziś zarezerwuj lożę na największe\, wrześniowe\, muzyczne wydarzenie!
 \nhttp://www.rezerwacje.2beclub.pl/2019-09-29\nJeżeli masz jakieś pytani
 a\, zadzwoń: 33 888 88 88 \nNasza obsługa odpowie na wszystkie Twoje pyt
 ania.\n\nWidzimy się na parkiecie \;)
ATTACH;FMTTYPE=image/jpeg:https://night4u.pl/wp-content/uploads/2019/09/63
 930_image_70288195_3133790479995783_5868367168332103680_o.jpg
CATEGORIES:śląskie
LOCATION:2Be Club\, ul. Ratuszowa 3\, Bielsko-Biała\, 43-300\, Poland
GEO:49.82274;19.05139
X-APPLE-STRUCTURED-LOCATION;VALUE=URI;X-ADDRESS=ul. Ratuszowa 3\, Bielsko-B
 iała\, 43-300\, Poland;X-APPLE-RADIUS=100;X-TITLE=2Be Club:geo:49.82274,1
 9.05139
END:VEVENT
BEGIN:VTIMEZONE
TZID:Europe/Warsaw
X-LIC-LOCATION:Europe/Warsaw
BEGIN:DAYLIGHT
DTSTART:20190331T030000
TZOFFSETFROM:+0100
TZOFFSETTO:+0200
TZNAME:CEST
END:DAYLIGHT
END:VTIMEZONE
END:VCALENDAR