BEGIN:VCALENDAR
VERSION:2.0
PRODID:-//wp-events-plugin.com//7.2.3.1//EN
TZID:Europe/Warsaw
X-WR-TIMEZONE:Europe/Warsaw
BEGIN:VEVENT
UID:46018@night4u.pl
DTSTART;TZID=Europe/Warsaw:20200208T220000
DTEND;TZID=Europe/Warsaw:20200209T040000
DTSTAMP:20200208T042848Z
URL:https://night4u.pl/wydarzenia/taste-the-music-night-dziewczyny-do-2300
 -wstep-free/
SUMMARY:Taste The Music Night! | dziewczyny do 23:00 wstęp FREE!
DESCRIPTION:8 lutego znana i lubiana ekipa Taste The Music melduje się w S
 Q na kolejnej imprezie TTM label night! \nGwarancja dobrych klubowych brzm
 ień gwarantowana! \nTylko dobry house music! \nZagrają: Yahlic\, Loui PL
 \, Deep Infect oraz Tommy Gustav.\nNie może was zabraknąć!\n\n\n\n08.02
  (sobota)\n\n\nYahlic\n\n\nLoui PL\n\n\nDeep Infect\n\n\nTommy Gustav\n\n\
 nstart -  22:00\n\n\nbilety: \n\n20 zł do 23:30 \n\n25 zł po 23:30 \n\n[
  dziewczyny do 23:00 wstęp FREE! ]
ATTACH;FMTTYPE=image/jpeg:https://night4u.pl/wp-content/uploads/2020/02/15
 0654_image_84843800_10158182484842940_9013277887595282432_n.jpg
CATEGORIES:wielkopolskie
LOCATION:SQ klub\, Poznan\, Poland
GEO:52.40174;16.926687
X-APPLE-STRUCTURED-LOCATION;VALUE=URI;X-ADDRESS=Poznan\, Poland;X-APPLE-RAD
 IUS=100;X-TITLE=SQ klub:geo:52.40174,16.926687
END:VEVENT
BEGIN:VTIMEZONE
TZID:Europe/Warsaw
X-LIC-LOCATION:Europe/Warsaw
BEGIN:STANDARD
DTSTART:20191027T020000
TZOFFSETFROM:+0200
TZOFFSETTO:+0100
TZNAME:CET
END:STANDARD
END:VTIMEZONE
END:VCALENDAR