BEGIN:VCALENDAR
VERSION:2.0
PRODID:-//wp-events-plugin.com//7.2.3.1//EN
TZID:Europe/Warsaw
X-WR-TIMEZONE:Europe/Warsaw
BEGIN:VEVENT
UID:27432@night4u.pl
DTSTART;TZID=Europe/Warsaw:20190921T220000
DTEND;TZID=Europe/Warsaw:20190922T050000
DTSTAMP:20190914T103140Z
URL:https://night4u.pl/wydarzenia/taste-the-music-night-sq-klub/
SUMMARY:Taste The Music Night! | SQ klub
DESCRIPTION:Po wakacyjnej przerwie TTM powraca do SQ! 21 września kolejna 
 odsłona imprez pod szyldem wytwórni Taste The Music! \n\nZa dj'ką tej n
 ocy zameldują się Stevens\,Tommy Gustav\, Asca oraz na chillroomie Craft
  Michael. Wokalnie wspierać ich będzie pochodzący z Nowego Jorku Master
  of Ceremony - The Blu Mantic!\n\nNajlepsze houseowe granie gwarantowane!\
 nDo zobaczenia! \n\n21.09\n\nThe Blu Mantic on vocal\n\nTommy Gustav\n\nSt
 evens\n\nAsca\n\nchillroom: Craft Michael\n\nstart: 22:00\n\nbilety: 20 z
 ł do 23:30 | 25 zł po 23:30 [ dziewczyny do 23:00 wstęp FREE! ]
ATTACH;FMTTYPE=image/jpeg:https://night4u.pl/wp-content/uploads/2019/09/63
 857_image_70089173_10157723489197940_5179515441244012544_o.jpg
CATEGORIES:wielkopolskie
LOCATION:SQ klub\, Poznan\, Poland
GEO:52.40174;16.926687
X-APPLE-STRUCTURED-LOCATION;VALUE=URI;X-ADDRESS=Poznan\, Poland;X-APPLE-RAD
 IUS=100;X-TITLE=SQ klub:geo:52.40174,16.926687
END:VEVENT
BEGIN:VTIMEZONE
TZID:Europe/Warsaw
X-LIC-LOCATION:Europe/Warsaw
BEGIN:DAYLIGHT
DTSTART:20190331T030000
TZOFFSETFROM:+0100
TZOFFSETTO:+0200
TZNAME:CEST
END:DAYLIGHT
END:VTIMEZONE
END:VCALENDAR