BEGIN:VCALENDAR
VERSION:2.0
PRODID:-//wp-events-plugin.com//7.2.3.1//EN
TZID:Europe/Warsaw
X-WR-TIMEZONE:Europe/Warsaw
BEGIN:VEVENT
UID:20848@night4u.pl
DTSTART;TZID=Europe/Warsaw:20190706T040000
DTEND;TZID=Europe/Warsaw:20190706T080000
DTSTAMP:20190701T111203Z
URL:https://night4u.pl/wydarzenia/tech-after-by-emes-diego-benitez/
SUMMARY:Tech After by Emes & Diego Benitez
DESCRIPTION:Tech After presented by Emes & Diego Benitez\n\nDon't let you S
 ummer nights be too short\, there's always time to After Party  ???\nSatur
 day\, July 6 the new AFTER PARTY in Krakow is unleashed ???\n\nFree Entran
 ce\n\n#Tech_House #Emes #DiegoBenitez #Krakow #Afterparty #RinMusicClub #P
 arty #TakeADJ
ATTACH;FMTTYPE=image/jpeg:https://night4u.pl/wp-content/uploads/2019/07/49
 900_image_65960843_2233793966727842_6749957000232173568_o.jpg
CATEGORIES:małopolskie
LOCATION:RIN music club\, ul. Szewska 14\, Kraków\, 31-009\, Poland
GEO:50.062663;19.934545
X-APPLE-STRUCTURED-LOCATION;VALUE=URI;X-ADDRESS=ul. Szewska 14\, Kraków\, 
 31-009\, Poland;X-APPLE-RADIUS=100;X-TITLE=RIN music club:geo:50.062663,19
 .934545
END:VEVENT
BEGIN:VTIMEZONE
TZID:Europe/Warsaw
X-LIC-LOCATION:Europe/Warsaw
BEGIN:DAYLIGHT
DTSTART:20190331T030000
TZOFFSETFROM:+0100
TZOFFSETTO:+0200
TZNAME:CEST
END:DAYLIGHT
END:VTIMEZONE
END:VCALENDAR