BEGIN:VCALENDAR
VERSION:2.0
PRODID:-//wp-events-plugin.com//7.2.3.1//EN
TZID:Europe/Warsaw
X-WR-TIMEZONE:Europe/Warsaw
BEGIN:VEVENT
UID:28157@night4u.pl
DTSTART;TZID=Europe/Warsaw:20191011T223000
DTEND;TZID=Europe/Warsaw:20191012T080000
DTSTAMP:20191015T104346Z
URL:https://night4u.pl/wydarzenia/techno-session-x-prozak-2-0-6/
SUMMARY:Techno Session x Prozak 2.0
DESCRIPTION:Kolejna edycja Techno Session odbędzie się z udziałem naszyc
 h dwóch rezydentów reprezentujących dwa różne odłamy techno - Deas\,
  miłośnik cięższych brzmień czwórkowych\, oraz Discox - reprezentuj
 ący brzmienia delikatne i melodyjne 🔊\n\n[-2] Techno Session\nDeas\nDi
 scox\n\nDo 23:00: wejście FREE dla osób “biorących udział” w wydar
 zeniu.\nPo 23:00: 20/ 30 PLN.\n\n---\n\nThe next episode of Techno Session
  will bring us our two residents representing different techno subgenres -
  Deas\, lover of the stronger vibes\, and Discox - representing subtle and
  melodic techno 🔊\n\n[-2] Techno Session\nDeas\nDiscox\n\nBy 11:00pm: F
 REE entry for Facebook “going” list.\nAfter 11:00pm: 20/ 30 PLN.
ATTACH;FMTTYPE=image/jpeg:https://night4u.pl/wp-content/uploads/2019/09/65
 376_image_70557870_2508510425876358_871037754383794176_o.jpg
CATEGORIES:małopolskie
LOCATION:Prozak 2.0\, Plac Dominikański 6\, Kraków\, 31-032\, Poland
GEO:50.058986;19.938203
X-APPLE-STRUCTURED-LOCATION;VALUE=URI;X-ADDRESS=Plac Dominikański 6\, Krak
 ów\, 31-032\, Poland;X-APPLE-RADIUS=100;X-TITLE=Prozak 2.0:geo:50.058986,
 19.938203
END:VEVENT
BEGIN:VTIMEZONE
TZID:Europe/Warsaw
X-LIC-LOCATION:Europe/Warsaw
BEGIN:DAYLIGHT
DTSTART:20190331T030000
TZOFFSETFROM:+0100
TZOFFSETTO:+0200
TZNAME:CEST
END:DAYLIGHT
END:VTIMEZONE
END:VCALENDAR