BEGIN:VCALENDAR
VERSION:2.0
PRODID:-//wp-events-plugin.com//7.2.3.1//EN
TZID:Europe/Warsaw
X-WR-TIMEZONE:Europe/Warsaw
BEGIN:VEVENT
UID:28165@night4u.pl
DTSTART;TZID=Europe/Warsaw:20191116T220000
DTEND;TZID=Europe/Warsaw:20191117T060000
DTSTAMP:20191116T051925Z
URL:https://night4u.pl/wydarzenia/techno-techyes-31-w-mds-x-scena-lowcy/
SUMMARY:TECHNO TECHYES #31 w/ MDS x scena ŁOWCY
DESCRIPTION:16 listopada to data kolejnego połączenia. Na scenie techno z
 agra MDS\, miłośnik mocnych brzmień i szybkiej stopy\, którego występ
 y charakteryzują się wykorzystaniem maszyn perkusyjnych\, tworząc na ż
 ywo miksy hybrydowe. Oprócz niego będą również dobrze znane krakowski
 ej publice twarze. Na warm-upie zagra Katarza z ekipy Si:nonym. Drugą sce
 nę oddajemy wspieranemu przez Łowców\, bassowemu kolektywowi GANG$TEPPA
 Z\, który zaprezentuje showcase swojej wytwórni - G-Stepz Records. Szpit
 alna 1\, 100% TECHNO TECHYES!\n\n\nSCENA TECHNO\n✚ MDS ʰʸᵇʳᶦᵈ \
 n✚ Eta Hox\n✚ KinkyOutsider\n✚ HiTrash (DJland / Szpitalna 1 / TECHN
 O TECHYES)\n✚ P98 ˡᶦᵛᵉ (TECHNO TECHYES)\n✚ warm-up Katarza (Si:
 nonym) [SI] \n\n✛ wideosety Aga Szuścik\n\n🔊 nagłośnienie Void Aco
 ustics\n\n\nSCENA ŁOWCY\n✚ BC (GANG$TEPPAZ / G-Stepz Records)\n✚ METO
 D (GANG$TEPPAZ / G-Stepz Records)\n✚ VANATOSKI (GANG$TEPPAZ / G-Stepz Re
 cords)\n\n✛ wsparcie ŁOWCY\n\n🔊 nagłośnienie MPN Sound System\n\n\
 n WEJŚCIE\n15 PLN lista FB ("wezmę udział") do 23.00\n20 PLN reszta\n\n
 \nPATRONAT\nSzpitalna 1 || Off Radio Kraków || Elektroniczny Kraków || m
 uno.pl || Going.
ATTACH;FMTTYPE=image/jpeg:https://night4u.pl/wp-content/uploads/2019/09/65
 392_image_70598742_2445186889072428_2626048012429819904_n.jpg
CATEGORIES:małopolskie
LOCATION:Szpitalna 1\, Szpitalna 1\, Kraków\, 31-041\, Poland
GEO:50.06186;19.94065
X-APPLE-STRUCTURED-LOCATION;VALUE=URI;X-ADDRESS=Szpitalna 1\, Kraków\, 31-
 041\, Poland;X-APPLE-RADIUS=100;X-TITLE=Szpitalna 1:geo:50.06186,19.94065
END:VEVENT
BEGIN:VTIMEZONE
TZID:Europe/Warsaw
X-LIC-LOCATION:Europe/Warsaw
BEGIN:STANDARD
DTSTART:20191027T020000
TZOFFSETFROM:+0200
TZOFFSETTO:+0100
TZNAME:CET
END:STANDARD
END:VTIMEZONE
END:VCALENDAR