BEGIN:VCALENDAR
VERSION:2.0
PRODID:-//wp-events-plugin.com//7.2.3.1//EN
TZID:Europe/Warsaw
X-WR-TIMEZONE:Europe/Warsaw
BEGIN:VEVENT
UID:49161@night4u.pl
DTSTART;TZID=Europe/Warsaw:20200321T220000
DTEND;TZID=Europe/Warsaw:20200322T050000
DTSTAMP:20200309T002742Z
URL:https://night4u.pl/wydarzenia/techno_dom-private-press-rui-aber-einar/
SUMMARY:Techno_DOM - Private Press / Rui Aber / Einar
DESCRIPTION:W pierwszy dzień wiosny zapraszamy na kolejną odsłonę nasze
 go cyklu TECHNO_DOM.\n\nPrivate Press to warszawski duet w składzie Adam 
 Brocki aka Newborn Jr. (Phonica Recordings\, Echovolt\, Pets\, Ziemia) i J
 an Wójcicki\, który od kilku lat wzbija się na wyżyny światowej elekt
 roniki. Projekt skupia się na muzyce techno\, którą wydaje w oficynie T
 echnosoul. Ich styl oscyluje pomiędzy Detroit a połamanym UK jungle-tech
 no.\n\nLokalne wsparcie: Rui Aber &amp\; Einar\n\nstart 22 / fb free do 23
  / 15/20zł\n+21\n\n@ REZERWACJE @\nWszystkie informacje dotyczące rezerw
 acji:\n601-529-515
ATTACH;FMTTYPE=image/jpeg:https://night4u.pl/wp-content/uploads/2020/03/17
 0280_image_88004643_2952248671507750_1567179527031881728_o.jpg
CATEGORIES:lubelskie
LOCATION:Dom Kultury\, ul. Krakowskie Przedmieście 19\, Lublin\, 20-002\, 
 Poland
GEO:51.24787;22.56342
X-APPLE-STRUCTURED-LOCATION;VALUE=URI;X-ADDRESS=ul. Krakowskie Przedmieści
 e 19\, Lublin\, 20-002\, Poland;X-APPLE-RADIUS=100;X-TITLE=Dom Kultury:geo
 :51.24787,22.56342
END:VEVENT
BEGIN:VTIMEZONE
TZID:Europe/Warsaw
X-LIC-LOCATION:Europe/Warsaw
BEGIN:STANDARD
DTSTART:20191027T020000
TZOFFSETFROM:+0200
TZOFFSETTO:+0100
TZNAME:CET
END:STANDARD
END:VTIMEZONE
END:VCALENDAR