BEGIN:VCALENDAR
VERSION:2.0
PRODID:-//wp-events-plugin.com//7.2.3.1//EN
TZID:Europe/Warsaw
X-WR-TIMEZONE:Europe/Warsaw
BEGIN:VEVENT
UID:28579@night4u.pl
DTSTART;TZID=Europe/Warsaw:20191005T220000
DTEND;TZID=Europe/Warsaw:20191006T050000
DTSTAMP:20191011T070017Z
URL:https://night4u.pl/wydarzenia/techno_dom-zamilska-live-%e2%96%a0-einar
 -bednarz-stogo/
SUMMARY:Techno_DOM : Zamilska live ■ Einar / Bednarz / Stogo
DESCRIPTION:Jedna z najciekawszych postaci techno w Polsce po raz pierwszy 
 w DK z występem live.\nHistoria Zamilskiej to przykład jednej z najbardz
 iej błyskawicznych i spektakularnych karier w świecie polskiej muzyki ni
 ezależnej. Debiutowała utworami Quarrel i Duel 35 (który został wykorz
 ystany podczas pokazu Dior w Tokio). Pierwszy album Untune z 2014 pozwoli
 ł jej zaistnieć w świadomości słuchaczy i zaowocował występami w ca
 łej Europie. Drugie wydawnictwo\, Undone z 2016\, nominowane było do Fry
 deryka w kategorii „Elektronika” i ugruntowało jej pozycję na rynku 
 muzycznym. Najnowszy album "Uncovered" to muzyczna opowieść pełna niepo
 koju\, trójwymiarowej przestrzeni i basu\, dopełniona charakterystycznym
  dla Zamilskiej transowym bitem.\n\nLokalne wsparcie: Einar ■  Bednarz 
 ■  Stogo \nII sala urban music : Gafo \n\nStart 22 / lista facebook 10 z
 ł  do 23 / 15 / 20 zł / + 21 lat
ATTACH;FMTTYPE=image/jpeg:https://night4u.pl/wp-content/uploads/2019/09/66
 145_image_70375934_2588372701228684_5690647842599731200_o.jpg
CATEGORIES:lubelskie
LOCATION:Dom Kultury\, ul. Krakowskie Przedmieście 19\, Lublin\, 20-002\, 
 Poland
GEO:51.24787;22.56342
X-APPLE-STRUCTURED-LOCATION;VALUE=URI;X-ADDRESS=ul. Krakowskie Przedmieści
 e 19\, Lublin\, 20-002\, Poland;X-APPLE-RADIUS=100;X-TITLE=Dom Kultury:geo
 :51.24787,22.56342
END:VEVENT
BEGIN:VTIMEZONE
TZID:Europe/Warsaw
X-LIC-LOCATION:Europe/Warsaw
BEGIN:DAYLIGHT
DTSTART:20190331T030000
TZOFFSETFROM:+0100
TZOFFSETTO:+0200
TZNAME:CEST
END:DAYLIGHT
END:VTIMEZONE
END:VCALENDAR