BEGIN:VCALENDAR
VERSION:2.0
PRODID:-//wp-events-plugin.com//7.2.3.1//EN
TZID:Europe/Warsaw
X-WR-TIMEZONE:Europe/Warsaw
BEGIN:VEVENT
UID:30307@night4u.pl
DTSTART;TZID=Europe/Warsaw:20191005T220000
DTEND;TZID=Europe/Warsaw:20191006T050000
DTSTAMP:20191003T235119Z
URL:https://night4u.pl/wydarzenia/teczowa-dyskoteka-lista-free-do-2300-11/
SUMMARY:Tęczowa Dyskoteka // Lista Free Do 23:00
DESCRIPTION:LISTA FB WCHODZI FREE DO 23:00! \nWYSTARCZY KLIKNĄĆ "WEZMĘ U
 DZIAŁ"\nLISTĘ ZAMYKAMY O 19:00!\n\nZapraszamy na pierwszy taki EVENT w N
 aszym HAH'u. ♥\nTej nocy tęczowy świat przeniknie na parkiety.\nSerwuj
 emy tęczowe przeboje i tęczowe drinasy ♥\nDołącz do najkolorowszej i
 mprezy w Polsce!\n\n====================================\nZAGRAJĄ: \n====
 ================================\nHEAVEN: Njoy the DJ\n===================
 =================\nHELL: DJ Darius\n====================================\n
 \nSTART: \n\n22:00 \n\nWstęp 15 zł\n\nLISTA FB FREE DO 23:00 / LISTĘ ZA
 MYKAMY O 19:00
ATTACH;FMTTYPE=image/jpeg:https://night4u.pl/wp-content/uploads/2019/10/69
 887_image_71498333_2372815762992255_1098045536394543104_o.jpg
CATEGORIES:pomorskie
LOCATION:HAH Sopot\, Aleja Franciszka Mamuszki 21 (obok wejścia nr 13 na p
 lażę)\, Sopot\, 81-712\, Poland
GEO:54.453133;18.563739
X-APPLE-STRUCTURED-LOCATION;VALUE=URI;X-ADDRESS=Aleja Franciszka Mamuszki 2
 1 (obok wejścia nr 13 na plażę)\, Sopot\, 81-712\, Poland;X-APPLE-RADIU
 S=100;X-TITLE=HAH Sopot:geo:54.453133,18.563739
END:VEVENT
BEGIN:VTIMEZONE
TZID:Europe/Warsaw
X-LIC-LOCATION:Europe/Warsaw
BEGIN:DAYLIGHT
DTSTART:20190331T030000
TZOFFSETFROM:+0100
TZOFFSETTO:+0200
TZNAME:CEST
END:DAYLIGHT
END:VTIMEZONE
END:VCALENDAR