BEGIN:VCALENDAR
VERSION:2.0
PRODID:-//wp-events-plugin.com//7.2.3.1//EN
TZID:Europe/Warsaw
X-WR-TIMEZONE:Europe/Warsaw
BEGIN:VEVENT
UID:1404@night4u.pl
DTSTART;TZID=Europe/Warsaw:20190202T210000
DTEND;TZID=Europe/Warsaw:20190203T020000
DTSTAMP:20191108T004145Z
URL:https://night4u.pl/wydarzenia/tede-olsztyn-andergrant-nojitour-02-02-2
 019/
SUMMARY:TEDE / Olsztyn / Andergrant / NOJItour 02.02.2019
DESCRIPTION:TEDE & SIR MICHU NOJI \nPremierowy koncert #NOJI !\n\n02.02.201
 9 Nowy Andergrant  \nBramy 21:00 \nwww.wielkiejol.com\n\nSUPPORT\nSonse  W
 ymf\nKłestabajla\n MEJDŻ\n\n#WJNWJ\nWSZYSCY JESTEŚMY NWJ \n\nBilety w c
 enach: \ninfo niebawem\n\nWytwórnia NWJ / Wielkie Joł zaprasza na koncer
 t TEDE i Ekipy NWJ w ramach trasy koncertowej NOJI? TOUR promującej najno
 wszy album Tede & Sir Mich „NOJI?”.\n\n#NOJItour #ILLiNOJI #NOJIto! Sz
 ykuje się gruby na #melangě ! \nWszyscy\, którzy kiedykolwiek byli na k
 oncercie TEDE muszą przyznać\, że są to wyjątkowe wydarzenia muzyczne
  zawsze kojarzące się z ROZPIERDOLEM. \nDołączcie do nas\, bo Wszyscy 
 Jesteśmy NWJ! #WJNWJ \nWSZYSCY JESTEŚMY NWJ\n\nNa najnowszym albumie Ted
 e i Sir Mich ponownie udowodnili\, że są lata świetlne przed konkurencj
 ą\, a niebo przestało być dawno ich limitem. Za oprawę graficzną trad
 ycyjnie odpowiedzialny jest Pan Zgrywus\, a na okładce albumu można dost
 rzec fragmenty okładek poprzednich albumów TEDE składających się w ko
 laż ukazujący jego podobiznę. \nAlbum NOJI? w sprzedaży jest od 15 cze
 rwca 2018 roku. Ponadto specjalna wersja albumu zawiera trzy dodatkowe utw
 ory nieobecne na płycie dostępnej w sklepach stacjonarnych.\n\n„Na tej
  płycie nie ma stonowanych utworów. Są kawałki nie tyle stonowane\, al
 e takie spokojniejsze – mówi TEDE - Jest to o wiele bardziej koncertowy
  materiał niż poprzednie dwie płyty. Nie to\, żeby był robiony pod ty
 m kątem\, po prostu taka była moja potrzeba ekspresji. Płyta “Skrrrt
 ” była taka zamulona specjalnie. Wiele osób wątpiło w jej siłę kon
 certową\, ale jak się okazuje jest to kwestia interpretacji. Pracując n
 ad nowym materiałem nie to\, że kroiłem go pod koncerty\, ale ten zamul
 ony materiał miałem już za sobą. Mogłem sobie pozwolić na dużo szal
 eństwa\, więc na tych 13 bądź też 16 utworów trzy czwarte to są kaw
 ałki\, które nazywam bangerami\, a reszta to są tak zwane maybachy\, cz
 yli są spokojne\, ale takie… jakbym miał to porównać\, to te spokojn
 e są bardziej w klimacie kawałków “Wunder Baum” i “Forever ja”.
  – dodaje TEDE. \n\nKUP CD:   \n\nTede (TDF) obecny jest na polskiej sce
 nie hip-hopowej od 1996 roku. Początki jego kariery związane są z zespo
 łem 1kHz (Ein Killa Hertz)\, który występował w składzie: TDF (Tas De
  Fleia)\, Janmario (DJ JMI) oraz V.O.L.T. (600V).\n\nTede  to tak naprawd
 ę Jacek Graniecki\, rocznik 1976. Urodzony w Warszawie raper\, producent\
 , aktor\, właściciel wytwórni muzycznej Wielkie Joł i marki odzieżowe
 j PLNY Textylia. Jeden z twórców polskiej sceny hiphopowej. Współtwór
 ca legendarnej formacji Warszafski Deszcz. Znany nie tylko ze względu na 
 muzykę\, ale również z uwagi na role filmowe i kontrowersyjne wypowiedz
 i. Kilkukrotnie nominowany do Fryderyków\, jest laureatem wielu nagród -
  na przestrzeni prawie 20 lat działalności muzycznej otrzymał kilka Śl
 izgerów\, nagrodę miesięcznika Machina\, Superjedynkę\, Belvedere Achi
 evement Award oraz nagrody plebiscytów organizowanych przez Audycję Wudo
 o\, Portal hip-hop.pl i serwis Popkiller.\n\nTede ma na swoim koncie wspó
 łpracę z wieloma artystami reprezentującymi nie tylko scenę hiphopową
 . Na liście jego kooperacji pojawiają się między innymi Zdzisława So
 śnicka\, Natalia Kukulska\, Pezet\, Dwa Sławy\, Wzgórze Ya Pa 3\, DonGU
 RALesko\, Sobota\, Lukatricks\, Diox\, Sokół\, Ortega Cartel\, Abradab\,
  Sitek\, Malik Montana\, Małach. Gościnnie pojawia się również na pro
 dukcjach skomponowanych m.in. przez Ośkę\, Cameya\, WhiteHouse i Dj'a 60
 0V\, Donatana.\n\nWięcej informacji o Tede można znaleźć na stronach:\
 nhttps://www.facebook.com/TDFTEDE \nhttp://instagram.com/tedef \nMERCHTEDE
 S \nMAPA KONCERTÓW: http://bit.ly/nojitour
ATTACH;FMTTYPE=image/jpeg:https://night4u.pl/wp-content/uploads/2018/12/66
 56_image_45158425_10156709892627068_3716778970411171840_o.jpg
CATEGORIES:warmińsko-mazurskie
LOCATION:\, \, 
X-APPLE-STRUCTURED-LOCATION;VALUE=URI;X-ADDRESS=\, ;X-APPLE-RADIUS=100;X-TI
 TLE=:geo:0,0
END:VEVENT
BEGIN:VTIMEZONE
TZID:Europe/Warsaw
X-LIC-LOCATION:Europe/Warsaw
BEGIN:STANDARD
DTSTART:20181028T020000
TZOFFSETFROM:+0200
TZOFFSETTO:+0100
TZNAME:CET
END:STANDARD
END:VTIMEZONE
END:VCALENDAR