BEGIN:VCALENDAR
VERSION:2.0
PRODID:-//wp-events-plugin.com//7.2.3.1//EN
TZID:Europe/Warsaw
X-WR-TIMEZONE:Europe/Warsaw
BEGIN:VEVENT
UID:50693@night4u.pl
DTSTART;TZID=Europe/Warsaw:20200906T090000
DTEND;TZID=Europe/Warsaw:20200906T213000
DTSTAMP:20200816T115554Z
URL:https://night4u.pl/wydarzenia/tedxrozanka/
SUMMARY:TEDxRóżanka
DESCRIPTION:Przyjdź na TEDxRóżanka do Stara Odra Beach Bar we Wrocławiu
  6 września 2020 r. i daj się porwać pozytywnej energii TEDa. Zabierz d
 obry humor\, znajomych\, rodzinę czy czworonoga i bawcie się dobrze!✌
 ️\n\nWszystko okraszone będzie dozą dobrej muzyki oraz atrakcjami arty
 stycznymi.\n\n→ Rejestracja wkrótce! ←
ATTACH;FMTTYPE=image/jpeg:https://night4u.pl/wp-content/uploads/2020/08/18
 4676_image_116798123_296940428418097_7300504781604733370_o.jpg
CATEGORIES:dolnośląskie
LOCATION:Stara Odra Beach Bar\, Zawalna\, Wroclaw\, 51-118\, Poland
GEO:51.134179;17.039449
X-APPLE-STRUCTURED-LOCATION;VALUE=URI;X-ADDRESS=Zawalna\, Wroclaw\, 51-118\
 , Poland;X-APPLE-RADIUS=100;X-TITLE=Stara Odra Beach Bar:geo:51.134179,17.
 039449
END:VEVENT
BEGIN:VTIMEZONE
TZID:Europe/Warsaw
X-LIC-LOCATION:Europe/Warsaw
BEGIN:DAYLIGHT
DTSTART:20200329T030000
TZOFFSETFROM:+0100
TZOFFSETTO:+0200
TZNAME:CEST
END:DAYLIGHT
END:VTIMEZONE
END:VCALENDAR