BEGIN:VCALENDAR
VERSION:2.0
PRODID:-//wp-events-plugin.com//7.2.3.1//EN
TZID:Europe/Warsaw
X-WR-TIMEZONE:Europe/Warsaw
BEGIN:VEVENT
UID:21866@night4u.pl
DTSTART;TZID=Europe/Warsaw:20190719T210000
DTEND;TZID=Europe/Warsaw:20190720T043000
DTSTAMP:20190709T223824Z
URL:https://night4u.pl/wydarzenia/telepatio-19-07-lista-fb-free/
SUMMARY:Telepatio ! // 19.07 // Lista FB Free!
DESCRIPTION:Powraca TELEPATIO!\n\nPo prawie dwóch latach odkurzamy jeden z
  naszych (i waszych) ulubionych cyklów imprez! Hipnotyczne telepatio osta
 tni raz zaczarowało was 4 sierpnia 2017\, ale wyczekiwanie się skończy
 ło!\n\nRozpieszczać Nas będzie Stosunkowodobry Waca\, który zadba by t
 o był Stosunkowodobry piątek! Bierzcie znajomych pod pachę i widzimy si
 ę na dzióbkach i tańcach na (tele)Patio!\n\nNRD KLUB\nul. Browarna 6\nT
 oruń\n\nData: 19.07.19 (Pątek)\nStart: 21:00\n\nWjazd:\nLista FB FREE*\n
 Pozostali 10 zł\n\n*Listę klasycznie zamykamy w dniu imprezy o 17. Ważn
 a jest do 23!\n** Wstęp dla osób pełnoletnich. Obowiązuje selekcja.\n\
 nWidzimy się na Browarnej 6!
ATTACH;FMTTYPE=image/jpeg:https://night4u.pl/wp-content/uploads/2019/07/51
 824_image_66263380_2210496448998383_5618071699980288000_o.jpg
CATEGORIES:kujawsko-pomorskie
LOCATION:NRD Klub\, Browarna 6\, Torun\, 87-100\, Poland
GEO:53.011128;18.612081
X-APPLE-STRUCTURED-LOCATION;VALUE=URI;X-ADDRESS=Browarna 6\, Torun\, 87-100
 \, Poland;X-APPLE-RADIUS=100;X-TITLE=NRD Klub:geo:53.011128,18.612081
END:VEVENT
BEGIN:VTIMEZONE
TZID:Europe/Warsaw
X-LIC-LOCATION:Europe/Warsaw
BEGIN:DAYLIGHT
DTSTART:20190331T030000
TZOFFSETFROM:+0100
TZOFFSETTO:+0200
TZNAME:CEST
END:DAYLIGHT
END:VTIMEZONE
END:VCALENDAR