BEGIN:VCALENDAR
VERSION:2.0
PRODID:-//wp-events-plugin.com//7.2.3.1//EN
TZID:Europe/Warsaw
X-WR-TIMEZONE:Europe/Warsaw
BEGIN:VEVENT
UID:19464@night4u.pl
DTSTART;TZID=Europe/Warsaw:20190628T230000
DTEND;TZID=Europe/Warsaw:20190629T060000
DTSTAMP:20190615T024826Z
URL:https://night4u.pl/wydarzenia/terror-heaven-4-metzger-b-day-klub-kwadr
 at/
SUMMARY:Terror Heaven #4 Metzger B-Day / Klub Kwadrat
DESCRIPTION:TERROR HEAVEN #4 METZGER B-DAY\nKRAKÓW - 28.06.2019 - KLUB KWA
 DRAT\n\nI  TELAWIX\nII DJ WIELKI HUJ\nIII PAVULON\nIV BARTŒ\nV GROAN-ER\n
 VI GAMEMODE0\nVII LOFFCIAMCORE\nVIII METZGER\nIX  REAKTOR-TH
ATTACH;FMTTYPE=image/jpeg:https://night4u.pl/wp-content/uploads/2019/06/46
 918_image_62391661_840901079616900_4503535318825172992_o.jpg
CATEGORIES:małopolskie
LOCATION:Hala Forum\, Marii Konopnickiej 28\, Kraków\, 30-302\, Poland
GEO:50.04504;19.93639
X-APPLE-STRUCTURED-LOCATION;VALUE=URI;X-ADDRESS=Marii Konopnickiej 28\, Kra
 ków\, 30-302\, Poland;X-APPLE-RADIUS=100;X-TITLE=Hala Forum:geo:50.04504,
 19.93639
END:VEVENT
BEGIN:VTIMEZONE
TZID:Europe/Warsaw
X-LIC-LOCATION:Europe/Warsaw
BEGIN:DAYLIGHT
DTSTART:20190331T030000
TZOFFSETFROM:+0100
TZOFFSETTO:+0200
TZNAME:CEST
END:DAYLIGHT
END:VTIMEZONE
END:VCALENDAR