BEGIN:VCALENDAR
VERSION:2.0
PRODID:-//wp-events-plugin.com//7.2.3.1//EN
TZID:Europe/Warsaw
X-WR-TIMEZONE:Europe/Warsaw
BEGIN:VEVENT
UID:22971@night4u.pl
DTSTART;TZID=Europe/Warsaw:20190802T200000
DTEND;TZID=Europe/Warsaw:20190803T040000
DTSTAMP:20190724T170306Z
URL:https://night4u.pl/wydarzenia/thank-god-its-friday-2/
SUMMARY:Thank God it's Friday! 
DESCRIPTION:Tak jest! To już piątek 
ATTACH;FMTTYPE=image/jpeg:https://night4u.pl/wp-content/uploads/2019/07/54
 286_image_67286900_2997731310268368_3097295792696721408_o.jpg
CATEGORIES:śląskie
LOCATION:2Be Club\, ul. Ratuszowa 3\, Bielsko-Biała\, 43-300\, Poland
GEO:49.82274;19.05139
X-APPLE-STRUCTURED-LOCATION;VALUE=URI;X-ADDRESS=ul. Ratuszowa 3\, Bielsko-B
 iała\, 43-300\, Poland;X-APPLE-RADIUS=100;X-TITLE=2Be Club:geo:49.82274,1
 9.05139
END:VEVENT
BEGIN:VTIMEZONE
TZID:Europe/Warsaw
X-LIC-LOCATION:Europe/Warsaw
BEGIN:DAYLIGHT
DTSTART:20190331T030000
TZOFFSETFROM:+0100
TZOFFSETTO:+0200
TZNAME:CEST
END:DAYLIGHT
END:VTIMEZONE
END:VCALENDAR