BEGIN:VCALENDAR
VERSION:2.0
PRODID:-//wp-events-plugin.com//7.2.3.1//EN
TZID:Europe/Warsaw
X-WR-TIMEZONE:Europe/Warsaw
BEGIN:VEVENT
UID:18971@night4u.pl
DTSTART;TZID=Europe/Warsaw:20190705T200000
DTEND;TZID=Europe/Warsaw:20190706T050000
DTSTAMP:20190611T180513Z
URL:https://night4u.pl/wydarzenia/the-80s-party-%e2%97%86-stranger-things-
 night-2/
SUMMARY:The 80’s Party ◆ Stranger Things Night
DESCRIPTION:5 lipca - dzień po premierze 3 sezonu Stranger Things celebruj
 emy ponowne spotkanie z Jedenastką i jej kumplami 
ATTACH;FMTTYPE=image/jpeg:https://night4u.pl/wp-content/uploads/2019/06/45
 883_image_62158421_2374220542634753_628880162431172608_o.jpg
CATEGORIES:lubelskie
LOCATION:PLENER\, Aleja Józefa Piłsudskiego\, Lublin\, 20-406\, Poland
GEO:51.23623;22.565086
X-APPLE-STRUCTURED-LOCATION;VALUE=URI;X-ADDRESS=Aleja Józefa Piłsudskiego
 \, Lublin\, 20-406\, Poland;X-APPLE-RADIUS=100;X-TITLE=PLENER:geo:51.23623
 ,22.565086
END:VEVENT
BEGIN:VTIMEZONE
TZID:Europe/Warsaw
X-LIC-LOCATION:Europe/Warsaw
BEGIN:DAYLIGHT
DTSTART:20190331T030000
TZOFFSETFROM:+0100
TZOFFSETTO:+0200
TZNAME:CEST
END:DAYLIGHT
END:VTIMEZONE
END:VCALENDAR