BEGIN:VCALENDAR
VERSION:2.0
PRODID:-//wp-events-plugin.com//7.2.3.1//EN
TZID:Europe/Warsaw
X-WR-TIMEZONE:Europe/Warsaw
BEGIN:VEVENT
UID:41763@night4u.pl
DTSTART;TZID=Europe/Warsaw:20200117T210000
DTEND;TZID=Europe/Warsaw:20200118T000000
DTSTAMP:20200331T192126Z
URL:https://night4u.pl/wydarzenia/the-awarians-2020-edition/
SUMMARY:The Awarians - 2020 edition!
DESCRIPTION:Wjeżdżamy w nowy rok z energią\, tupiąc nóżką i wypatruj
 ąc nadchodzących wrażeń\, no bo kto nam zabroni! Zapraszamy do potupan
 ia razem z nami!\nWpadajcie na wspólne tańce i funkowe harce do Awarii\,
  będzie pysznie i będą\, jak zwykle\, niespodzianki....\nDo zobaczenia!
 \n&gt\;&gt\;&gt\;&gt\;Wjazd - FREE&lt\;&lt\;&lt\;&lt\;&lt\;\n\n-----------
 ---------------------------\nThe Awarians to silna reprezentacja lokalnej 
 sceny muzycznej. Piątka muzyków pod przewodnictwem charyzmatycznego Amer
 ykanina Christophera B. Gray\, który z łatwością przechodzi od melorec
 ytacji przez śpiew do rapu. Wybuchowa mieszanka temperamentów i muzyczny
 ch inspiracji. Sięgają po najróżniejsze gatunki od alternatywnego rock
 a po jazz\, techno i funk. Nie stronią od zamierzonego kiczu i trudnych t
 ematów. \n\nSkład zespołu:\nChristopher B. Gray - voc\, lyrics\, therem
 in\nMikołaj Spendel - bass\nKasia Bobik - drums\, voc\nSara Mikuła-Spend
 el - voc\nMaciek Klima - guitar\n\nDo zobaczenia! m/ \n\ngrafika: Karolina
  Ucisko &lt\;3
ATTACH;FMTTYPE=image/jpeg:https://night4u.pl/wp-content/uploads/2020/01/13
 1242_image_82462691_10158163842358254_2229695399424163840_o.jpg
CATEGORIES:małopolskie
LOCATION:Klub Awaria\, Mikołajska 9\, Kraków\, 31-027\, Poland
GEO:50.06133;19.94207
X-APPLE-STRUCTURED-LOCATION;VALUE=URI;X-ADDRESS=Mikołajska 9\, Kraków\, 3
 1-027\, Poland;X-APPLE-RADIUS=100;X-TITLE=Klub Awaria:geo:50.06133,19.9420
 7
END:VEVENT
BEGIN:VTIMEZONE
TZID:Europe/Warsaw
X-LIC-LOCATION:Europe/Warsaw
BEGIN:STANDARD
DTSTART:20191027T020000
TZOFFSETFROM:+0200
TZOFFSETTO:+0100
TZNAME:CET
END:STANDARD
END:VTIMEZONE
END:VCALENDAR