BEGIN:VCALENDAR
VERSION:2.0
PRODID:-//wp-events-plugin.com//7.2.3.1//EN
TZID:Europe/Warsaw
X-WR-TIMEZONE:Europe/Warsaw
BEGIN:VEVENT
UID:4910@night4u.pl
DTSTART;TZID=Europe/Warsaw:20190430T200000
DTEND;TZID=Europe/Warsaw:20190430T230000
DTSTAMP:20190122T193616Z
URL:https://night4u.pl/wydarzenia/the-chicago-blues-brothers-w-a2/
SUMMARY:The Chicago Blues Brothers w A2!
DESCRIPTION:Bilety:\n99 zł do 31.03.2019\n110 zł do 29.04.2019\n130 zł w
  dniu koncertu\nLink umożliwiający zakup biletu przez internet:\nhttps:/
 /www.ticketmaster.pl/event/the-chicago-blues-brothers-bilety/9441\n\nJedna
  z najsłynniejszych muzycznych komedii wszechczasów! Doskonałe połącz
 enie muzyki\, sensacji i żartu. Szalona podróż przez Amerykę skradzion
 ym radiowozem w rytmie wielkich przebojów. Wszyscy doskonale znamy histor
 ię braci Blues a jednak wciąż chcemy by opowiadano ją nam na nowo. \n\
 nOto nadchodzi niepowtarzalna okazja by przeżyć tę przygodę raz jeszcz
 e. Tym razem nie przed telewizorem ale na żywo\, podczas porywającego ko
 ncertu. To wielkie show\, gigantyczne emocje\, plejada przebojów klasyki 
 światowej muzyki. Elwood i Jake oraz ich kilkunastoosobowy zespół zagra
 ją m.in. piosenki z filmu: "Everybody Needs Somebody"\, "Sweet Home\nChic
 ago"\, "Gimme Some Lovin’" a także przeboje takich legend jak: Aretha F
 ranklin\, James Brown\, Otis Redding\, Ray Charles\, Tina Turner. \n\nTo n
 ie tylko muzyka\, to także dynamiczne\, barwne i emocjonujące widowisko 
 dla widzów od lat 5-ciu do 105-ciu. Chicago Blues Brothers Show zostało 
 w 2013 roku uhonorowane nagrodą Official No 1 Tribute Actin The UK.\n\nSt
 art godz. 20:00
ATTACH;FMTTYPE=image/jpeg:https://night4u.pl/wp-content/uploads/2019/01/15
 642_image_48364457_2231937927088833_4290029780121681920_o.jpg
CATEGORIES:dolnośląskie
LOCATION:A2 - Centrum Koncertowe\, Góralska 5\, Wroclaw\, 53-610\, Poland
GEO:51.108613;17.001703
X-APPLE-STRUCTURED-LOCATION;VALUE=URI;X-ADDRESS=Góralska 5\, Wroclaw\, 53-
 610\, Poland;X-APPLE-RADIUS=100;X-TITLE=A2 - Centrum Koncertowe:geo:51.108
 613,17.001703
END:VEVENT
BEGIN:VTIMEZONE
TZID:Europe/Warsaw
X-LIC-LOCATION:Europe/Warsaw
BEGIN:DAYLIGHT
DTSTART:20190331T030000
TZOFFSETFROM:+0100
TZOFFSETTO:+0200
TZNAME:CEST
END:DAYLIGHT
END:VTIMEZONE
END:VCALENDAR