BEGIN:VCALENDAR
VERSION:2.0
PRODID:-//wp-events-plugin.com//7.2.3.1//EN
TZID:Europe/Warsaw
X-WR-TIMEZONE:Europe/Warsaw
BEGIN:VEVENT
UID:4912@night4u.pl
DTSTART;TZID=Europe/Warsaw:20190517T200000
DTEND;TZID=Europe/Warsaw:20190517T230000
DTSTAMP:20190122T193618Z
URL:https://night4u.pl/wydarzenia/the-cinematic-orchestra-17-05-wroclaw-a2
 -centrum-koncertowe/
SUMMARY:The Cinematic Orchestra\, 17.05\, Wrocław\, A2 - Centrum Koncertow
 e
DESCRIPTION:The Cinematic Orchestra wracają z nowym albumem! Jedna z najba
 rdziej szanowanych i wpływowych brytyjskich formacji ostatnich 20 lat nad
 al inspiruje gwiazdy jazzu\, muzyki filmowej i tanecznej elektroniki. Prem
 iera płyty „To Believe” 15 marca\, zaś 17 maja grupa zagra we Wrocł
 awiu!\n\n	Wśród fanów The Cinematic Orchestra znajdziemy takich gigant
 ów współczesnej sceny jak Kamasi Washington\, Bonobo\, Ólafur Arnalds\
 , BADBADNOTGOOD czy Floating Points. Formacja założona przez Jasona Swin
 scoe\, a w ostatnich latach współtworzona także przez długoletniego pr
 zyjaciela i współpracownika Dominica Smitha\, wypracowała unikalny styl
  na przecięciu jazzowej melancholii\, sugestywności filmowych soundtrack
 ów i nowoczesnej elektronicznej produkcji. Od czasu przełomowego debiutu
  „Motion” zespół sprzedał setki tysięcy płyt\, zaś ich najsławn
 iejszą piosenkę „To Build A Home” z ostatniego krążka „Ma Fleur
 ” odtworzono w serwisach streamingowych ponad ćwierć miliona razy. Kom
 pozycję znają także widzowie takich seriali i filmów jak „Orange Is 
 The New Black”\, "Homeland” czy „Chirurdzy”. Z kolei utwór „Arr
 ival Of The Birds” wybrzmiewa w nagrodzonym Oscarem obrazie „Teoria ws
 zystkiego”.\nThe Cinematic Orchestra mają na koncie także wspaniałe 
 ścieżki dźwiękowe\, m.in. do arcydzieła niemego kina „Człowiek z K
 amerą” Vertova\, a także disneyowskiej produkcji „The Crimson Wing
 ”.\n	Swinscoe i Smith współpracują z najwybitniejszymi instrumentalis
 tami\, a także znakomitymi głosami muzycznej sceny\, takimi jak Fontanel
 la Bass\, Patrick Watson\, Roots Manuva czy Moses Sumney. Dwaj ostatni poj
 awią się także\, u boku wielu innych gości (m.in. Tawiah\, Heidi Vogel
 \, Grey Reverend)\, na najnowszym albumie legendarnej formacji. \n„Cinem
 atic zawsze mierzyli wyżej\, rekrutując wybitnych instrumentalistów\, c
 zerpiąc głęboko z jazzu i tworząc płyty\, które jawiły sie bardziej
  jako rozrastające się\, uważnie skonstruowane suity niż zwykłe kolek
 cje piosenek.” - pisał o nich opiniotwórczy Pitchfork i słowa te moż
 na odnieść także do nowego materiału.\n„To Believe” to ponad 50 mi
 nut nowej muzyki\, siedem długich kompozycji\, które przypominają\, że
  współcześnie nadal ważną rolę odgrywać mogą: smak\, poszukiwanie 
 balansu\, subtelność\, które nie wykluczają jednak intensywnych emocji
 . Nowy album TCO to także przykład\, że erudycja i szacunek dla tradycj
 i mogą znaleźć wyraz w atrakcyjnej\, nowoczesnej brzmieniowo formie. To
  muzyka pisana z uczuciem\, podana szerokim gestem\, dopieszczona w każdy
 m szczególe\, a jednak zachwycająca intymną aurą. Album miksował wiel
 okrotny zdobywca Grammy Tom Elmhirst (David Bowie\, Adele) w legendarnym s
 tudio Jimiego Hendrixa - Electric Ladyland. Okładkę płyty zaprojektowal
 i sławni Designers Republic (Aphex Twin\, Autechre).\n	Polscy fani dobrze
  wiedzą\, że podobny klimat Orkiestra kreuje także podczas niezwykłych
  koncertów. Zespół nad Wisłą zawsze przyjmowano entuzjastycznie\, cho
 ćby podczas pamiętnych występów w ramach festiwali Sacrum Profanum\, W
 arsaw Summer Jazz czy Tauron Nowa Muzyka. Swinscoe podkreśla\, że do Pol
 ski zawsze wraca radością - wielokrotnie przyznawał się do fascynacji 
 muzyką Krzysztofa Komedy. W swoich zbiorach ma też pokaźną kolekcję p
 łyt z polskim jazzem. \n	Tym bardziej nie możemy się doczekać ich majo
 wych występów - zespół wraz z gośćmi zagra 17 maja we Wrocławiu (a2
 )\, dzień później w Krakowie (Studio)\, 19 maja pojawi się w Gdańsku 
 (Stary Maneż)\, 20.05 w Warszawie (Palladium)\, by zakończyć trasę wie
 lkim show w poznańskiej Sali Ziemi.\n\nPrzedsprzedaż biletów już od ju
 tra na stronie zespołu. Otwarta sprzedaż od piątku: Biletomat.pl\, Tick
 etmaster.pl\, Eventim.pl.
ATTACH;FMTTYPE=image/jpeg:https://night4u.pl/wp-content/uploads/2019/01/15
 647_image_49864240_2180719981974038_1831099220057128960_o.jpg
CATEGORIES:dolnośląskie
LOCATION:A2 - Centrum Koncertowe\, Góralska 5\, Wroclaw\, 53-610\, Poland
GEO:51.108613;17.001703
X-APPLE-STRUCTURED-LOCATION;VALUE=URI;X-ADDRESS=Góralska 5\, Wroclaw\, 53-
 610\, Poland;X-APPLE-RADIUS=100;X-TITLE=A2 - Centrum Koncertowe:geo:51.108
 613,17.001703
END:VEVENT
BEGIN:VTIMEZONE
TZID:Europe/Warsaw
X-LIC-LOCATION:Europe/Warsaw
BEGIN:DAYLIGHT
DTSTART:20190331T030000
TZOFFSETFROM:+0100
TZOFFSETTO:+0200
TZNAME:CEST
END:DAYLIGHT
END:VTIMEZONE
END:VCALENDAR