BEGIN:VCALENDAR
VERSION:2.0
PRODID:-//wp-events-plugin.com//7.2.3.1//EN
TZID:Europe/Warsaw
X-WR-TIMEZONE:Europe/Warsaw
BEGIN:VEVENT
UID:3421@night4u.pl
DTSTART;TZID=Europe/Warsaw:20190126T220000
DTEND;TZID=Europe/Warsaw:20190127T040000
DTSTAMP:20190111T110818Z
URL:https://night4u.pl/wydarzenia/the-cinnamon-spirit-dudson-shot-polastri
 /
SUMMARY:The Cinnamon Spirit / Dudson & Shot & Polastri
DESCRIPTION:Warszawska legenda powraca!\n\nTylko prawdziwi kombatanci klubo
 wi pamiętają tamte czasy. To były gorące noce pełne tańców na stoł
 ach i barze. Czas najwyższy o nich przypomnieć!\n\nZapraszamy was na cyk
 l imprez The Cinnamon Spirit\, który stworzyliśmy dla was razem z wspó
 łtwórcami cynamonowej legendy\, bo ich nie mogło zabraknąć: Dudsonem\
 , Shotem i Polastrim.\n\nNie planujecie nic na niedzielę\, bo niedzieli n
 ie będzie!\n\nSOBOTA: 26.01.2019\n_____________________\nZagrają: \nDuds
 on \nShot \nPOLASTRI\n\n*start: 22:00 / obowiązuje selekcja\n*rezerwacje:
  reservation@theview.pl / +48 663 971 942\n*wstęp: \n- standard 30 PLN\n-
  lista facebook: FREE do 23:00 (kliknij "wezmę udział")\n- między 3:00 
 a 4:00 wstęp FREE\n- wejście na imprezę możliwe do godziny 4:00\n_____
 _________________\n\nTHE VIEW - LIKE NO OTHER.
ATTACH;FMTTYPE=image/jpeg:https://night4u.pl/wp-content/uploads/2019/01/10
 955_image_49704075_1965372100177521_4271253527428333568_o.jpg
CATEGORIES:mazowieckie
LOCATION:The View Warsaw\, Twarda 18\, Warsaw\, 00-105\, Poland
GEO:52.23443;20.99936
X-APPLE-STRUCTURED-LOCATION;VALUE=URI;X-ADDRESS=Twarda 18\, Warsaw\, 00-105
 \, Poland;X-APPLE-RADIUS=100;X-TITLE=The View Warsaw:geo:52.23443,20.99936
END:VEVENT
BEGIN:VTIMEZONE
TZID:Europe/Warsaw
X-LIC-LOCATION:Europe/Warsaw
BEGIN:STANDARD
DTSTART:20181028T020000
TZOFFSETFROM:+0200
TZOFFSETTO:+0100
TZNAME:CET
END:STANDARD
END:VTIMEZONE
END:VCALENDAR