BEGIN:VCALENDAR
VERSION:2.0
PRODID:-//wp-events-plugin.com//7.2.3.1//EN
TZID:Europe/Warsaw
X-WR-TIMEZONE:Europe/Warsaw
BEGIN:VEVENT
UID:48808@night4u.pl
DTSTART;TZID=Europe/Warsaw:20200425T210000
DTEND;TZID=Europe/Warsaw:20200426T000000
DTSTAMP:20200424T074437Z
URL:https://night4u.pl/wydarzenia/the-corners-szczecin-klub-studencki-pral
 nia-25-04-2020/
SUMMARY:The Corners - Szczecin - Klub Studencki Pralnia 25.04.2020
DESCRIPTION:The Corners to solidna dawka Indie Rocka okraszona punkową ene
 rgią\, popowymi refrenami i polskimi tekstami. \nZespół zaprezentuje ma
 teriał z nadchodzącej debiutanckiej płyty.
ATTACH;FMTTYPE=image/jpeg:https://night4u.pl/wp-content/uploads/2020/02/16
 6948_image_85046750_1510837009080000_5812048713878601728_n.jpg
CATEGORIES:zachodniopomorskie
LOCATION:Klub Studencki Pralnia\, Bohaterów Warszawy 75\, Szczecin\, 71-07
 0\, Poland
GEO:53.41969;14.53118
X-APPLE-STRUCTURED-LOCATION;VALUE=URI;X-ADDRESS=Bohaterów Warszawy 75\, Sz
 czecin\, 71-070\, Poland;X-APPLE-RADIUS=100;X-TITLE=Klub Studencki Pralnia
 :geo:53.41969,14.53118
END:VEVENT
BEGIN:VTIMEZONE
TZID:Europe/Warsaw
X-LIC-LOCATION:Europe/Warsaw
BEGIN:DAYLIGHT
DTSTART:20200329T030000
TZOFFSETFROM:+0100
TZOFFSETTO:+0200
TZNAME:CEST
END:DAYLIGHT
END:VTIMEZONE
END:VCALENDAR