BEGIN:VCALENDAR
VERSION:2.0
PRODID:-//wp-events-plugin.com//7.2.3.1//EN
TZID:Europe/Warsaw
X-WR-TIMEZONE:Europe/Warsaw
BEGIN:VEVENT
UID:36624@night4u.pl
DTSTART;TZID=Europe/Warsaw:20191220T200000
DTEND;TZID=Europe/Warsaw:20191221T010000
DTSTAMP:20191220T040157Z
URL:https://night4u.pl/wydarzenia/the-cuban-latin-jazz-special-latino-nigh
 t-jam-session/
SUMMARY:Sold Out - The Cuban Latin Jazz: Special Latino Night
DESCRIPTION:ENGLISH VERSION BELOW\ngodzina 20:00\nZapraszamy na wieczór pe
 łen muzyki latynoskiej i kubańskiej\,\npodczas którego nie zabraknie r
 ównież gorących rytmów. \ngodzina 22:00\nThe Cuban Latin Jazz: Late Ni
 ght Jam Session\nZapraszamy na kubańsko-latynoskie wydanie piątkowego ja
 m session.\n\nZagrają:\nPawel Kukula \nGrzegorz Abreu Krysztofiak\nDomini
 k Jaske \nTaras Bakovski\n\nZachęcamy do rezerwacji miejsc w klubie: emen
 ago.com/i/vertigojazz\n\n\nWe invite you to an evening full of Latin and C
 uban music\,\nduring which there will lots of warming rhythms.\n22:00\nThe
  Cuban Latin Jazz: Late Night Jam Session\nWe invite you to the Cuban-Lati
 n edition of the Friday jam session.\n\nBand:\nPawel Kukula\nGrzegorz Abre
 u Krysztofiak\nDominik Jaske\nBakovski terrace\n\nWe encourage you to book
  places in the club: emenago.com/i/vertigojazz
ATTACH;FMTTYPE=image/jpeg:https://night4u.pl/wp-content/uploads/2019/12/10
 0827_image_80210007_2454342154821702_4892876230216384512_o.jpg
CATEGORIES:dolnośląskie
LOCATION:Vertigo Jazz Club & Restaurant\, Oławska 13\, Wroclaw\, 53-125\, 
 Poland
GEO:51.10835;17.03537
X-APPLE-STRUCTURED-LOCATION;VALUE=URI;X-ADDRESS=Oławska 13\, Wroclaw\, 53-
 125\, Poland;X-APPLE-RADIUS=100;X-TITLE=Vertigo Jazz Club & Restaurant:geo
 :51.10835,17.03537
END:VEVENT
BEGIN:VTIMEZONE
TZID:Europe/Warsaw
X-LIC-LOCATION:Europe/Warsaw
BEGIN:STANDARD
DTSTART:20191027T020000
TZOFFSETFROM:+0200
TZOFFSETTO:+0100
TZNAME:CET
END:STANDARD
END:VTIMEZONE
END:VCALENDAR